BEGIN:VCALENDAR
VERSION:2.0
PRODID:-//Tameside School Sports Partnership - ECPv6.9.1//NONSGML v1.0//EN
CALSCALE:GREGORIAN
METHOD:PUBLISH
X-WR-CALNAME:Tameside School Sports Partnership
X-ORIGINAL-URL:https://www.tamesideschoolsport.co.uk
X-WR-CALDESC:Events for Tameside School Sports Partnership
REFRESH-INTERVAL;VALUE=DURATION:PT1H
X-Robots-Tag:noindex
X-PUBLISHED-TTL:PT1H
BEGIN:VTIMEZONE
TZID:UTC
BEGIN:STANDARD
TZOFFSETFROM:+0000
TZOFFSETTO:+0000
TZNAME:UTC
DTSTART:20250101T000000
END:STANDARD
END:VTIMEZONE
BEGIN:VEVENT
DTSTART;TZID=UTC:20250206T154500
DTEND;TZID=UTC:20250206T171500
DTSTAMP:20260424T093252
CREATED:20250106T155654Z
LAST-MODIFIED:20250106T155654Z
UID:2051-1738856700-1738862100@www.tamesideschoolsport.co.uk
SUMMARY:Sports Hall Athletics Heat 4
DESCRIPTION:INTENT: Competitive event where the top team will compete at a final. \nAUDIENCE: Y5/6 mixed event needing a min of 18 children (9 boys and 9 girls). Children should be aware of their events beforehand to ensure they can practice.
URL:https://www.tamesideschoolsport.co.uk/event/sports-hall-athletics-heat-4/
LOCATION:Denton Community Academy
ORGANIZER;CN="Tameside SSP":MAILTO:Emma.toone@gaa.org.uk
END:VEVENT
END:VCALENDAR