BEGIN:VCALENDAR
VERSION:2.0
PRODID:-//Tameside School Sports Partnership - ECPv6.9.1//NONSGML v1.0//EN
CALSCALE:GREGORIAN
METHOD:PUBLISH
X-WR-CALNAME:Tameside School Sports Partnership
X-ORIGINAL-URL:https://www.tamesideschoolsport.co.uk
X-WR-CALDESC:Events for Tameside School Sports Partnership
REFRESH-INTERVAL;VALUE=DURATION:PT1H
X-Robots-Tag:noindex
X-PUBLISHED-TTL:PT1H
BEGIN:VTIMEZONE
TZID:UTC
BEGIN:STANDARD
TZOFFSETFROM:+0000
TZOFFSETTO:+0000
TZNAME:UTC
DTSTART:20250101T000000
END:STANDARD
END:VTIMEZONE
BEGIN:VEVENT
DTSTART;TZID=UTC:20250313T153000
DTEND;TZID=UTC:20250313T170000
DTSTAMP:20260424T035232
CREATED:20250107T165643Z
LAST-MODIFIED:20250226T122609Z
UID:2276-1741879800-1741885200@www.tamesideschoolsport.co.uk
SUMMARY:Off the Blocks Y9 Finals
DESCRIPTION:Venue: St Damians or Hyde
URL:https://www.tamesideschoolsport.co.uk/event/off-the-blocks-y9-finals/
LOCATION:St Damians
ORGANIZER;CN="Tameside PEA":MAILTO:emma.toone@gaa.org.uk
END:VEVENT
BEGIN:VEVENT
DTSTART;TZID=UTC:20250313T154500
DTEND;TZID=UTC:20250313T170000
DTSTAMP:20260424T035232
CREATED:20250107T120300Z
LAST-MODIFIED:20250107T120300Z
UID:2094-1741880700-1741885200@www.tamesideschoolsport.co.uk
SUMMARY:Glow Dodgeball Girls Y5/6
DESCRIPTION:INTENT: Fun and a party atmosphere. Development – no scores will be kept \nAUDIENCE: 6 a side Years 5/6. Please dress in bright clothing\, wear face paint etc. Dark clothing will not show up well.
URL:https://www.tamesideschoolsport.co.uk/event/glow-dodgeball-girls-y5-6-2/
LOCATION:Astley Sports Village
ORGANIZER;CN="Tameside SSP":MAILTO:Emma.toone@gaa.org.uk
END:VEVENT
END:VCALENDAR