BEGIN:VCALENDAR
VERSION:2.0
PRODID:-//Tameside School Sports Partnership - ECPv6.9.1//NONSGML v1.0//EN
CALSCALE:GREGORIAN
METHOD:PUBLISH
X-WR-CALNAME:Tameside School Sports Partnership
X-ORIGINAL-URL:https://www.tamesideschoolsport.co.uk
X-WR-CALDESC:Events for Tameside School Sports Partnership
REFRESH-INTERVAL;VALUE=DURATION:PT1H
X-Robots-Tag:noindex
X-PUBLISHED-TTL:PT1H
BEGIN:VTIMEZONE
TZID:UTC
BEGIN:STANDARD
TZOFFSETFROM:+0000
TZOFFSETTO:+0000
TZNAME:UTC
DTSTART:20250101T000000
END:STANDARD
END:VTIMEZONE
BEGIN:VEVENT
DTSTART;TZID=UTC:20250320T153000
DTEND;TZID=UTC:20250320T170000
DTSTAMP:20260424T035702
CREATED:20250107T165607Z
LAST-MODIFIED:20250107T165607Z
UID:2273-1742484600-1742490000@www.tamesideschoolsport.co.uk
SUMMARY:Off the Blocks Y8 Finals
DESCRIPTION:Venue: St Damians or Hyde
URL:https://www.tamesideschoolsport.co.uk/event/off-the-blocks-y8-finals/
LOCATION:St Damians or Hyde
ORGANIZER;CN="Tameside PEA":MAILTO:emma.toone@gaa.org.uk
END:VEVENT
BEGIN:VEVENT
DTSTART;TZID=UTC:20250320T154500
DTEND;TZID=UTC:20250320T170000
DTSTAMP:20260424T035702
CREATED:20250107T121312Z
LAST-MODIFIED:20250107T121312Z
UID:2100-1742485500-1742490000@www.tamesideschoolsport.co.uk
SUMMARY:Glow Dodgeball Y3/4 fest
DESCRIPTION:INTENT: Fun and a party atmosphere. \nAUDIENCE: 6 in a team\, min of 2 girls 2 boys. Please target pupils who may be less engaged or inspired by sport.
URL:https://www.tamesideschoolsport.co.uk/event/glow-dodgeball-y3-4-fest/
LOCATION:Astley Sports Village
ORGANIZER;CN="Tameside SSP":MAILTO:Emma.toone@gaa.org.uk
END:VEVENT
END:VCALENDAR