BEGIN:VCALENDAR
VERSION:2.0
PRODID:-//Tameside School Sports Partnership - ECPv6.9.1//NONSGML v1.0//EN
CALSCALE:GREGORIAN
METHOD:PUBLISH
X-ORIGINAL-URL:https://www.tamesideschoolsport.co.uk
X-WR-CALDESC:Events for Tameside School Sports Partnership
REFRESH-INTERVAL;VALUE=DURATION:PT1H
X-Robots-Tag:noindex
X-PUBLISHED-TTL:PT1H
BEGIN:VTIMEZONE
TZID:UTC
BEGIN:STANDARD
TZOFFSETFROM:+0000
TZOFFSETTO:+0000
TZNAME:UTC
DTSTART:20250101T000000
END:STANDARD
END:VTIMEZONE
BEGIN:VEVENT
DTSTART;VALUE=DATE:20250321
DTEND;VALUE=DATE:20250322
DTSTAMP:20260424T035342
CREATED:20250107T181247Z
LAST-MODIFIED:20250227T151344Z
UID:2308-1742515200-1742601599@www.tamesideschoolsport.co.uk
SUMMARY:PE Lead Teacher network
DESCRIPTION:We welcome all member schools PE Leads to the 2nd network of the year. \nAgenda: \n\nEngaging children with a new sport: Flag Football teachers course\nPhysical Literacy in KS1 – Cricket\nKit delivery\nLTA Tennis for Teachers course\n\nLunch provided \n  \nThis will be a very practical day so please wear kit
URL:https://www.tamesideschoolsport.co.uk/event/pe-lead-teacher-network/
LOCATION:Great Academy Ashton – OL6 8RF
ORGANIZER;CN="Tameside SSP":MAILTO:Emma.toone@gaa.org.uk
END:VEVENT
END:VCALENDAR