BEGIN:VCALENDAR
VERSION:2.0
PRODID:-//Tameside School Sports Partnership - ECPv6.9.1//NONSGML v1.0//EN
CALSCALE:GREGORIAN
METHOD:PUBLISH
X-WR-CALNAME:Tameside School Sports Partnership
X-ORIGINAL-URL:https://www.tamesideschoolsport.co.uk
X-WR-CALDESC:Events for Tameside School Sports Partnership
REFRESH-INTERVAL;VALUE=DURATION:PT1H
X-Robots-Tag:noindex
X-PUBLISHED-TTL:PT1H
BEGIN:VTIMEZONE
TZID:UTC
BEGIN:STANDARD
TZOFFSETFROM:+0000
TZOFFSETTO:+0000
TZNAME:UTC
DTSTART:20250101T000000
END:STANDARD
END:VTIMEZONE
BEGIN:VEVENT
DTSTART;TZID=UTC:20250326T154500
DTEND;TZID=UTC:20250326T170000
DTSTAMP:20260424T035709
CREATED:20250107T180834Z
LAST-MODIFIED:20250107T180834Z
UID:2297-1743003900-1743008400@www.tamesideschoolsport.co.uk
SUMMARY:Basketball Heat 2
DESCRIPTION:INTENT: Competitive event leading to a finals. \nAUDIENCE: Y5/6 Mixed event with min of 2 boys and 2 girls on the court at any one time. 5 in a team
URL:https://www.tamesideschoolsport.co.uk/event/basketball-heat-2/
LOCATION:Alder CHS
ORGANIZER;CN="Tameside SSP":MAILTO:Emma.toone@gaa.org.uk
END:VEVENT
BEGIN:VEVENT
DTSTART;TZID=UTC:20250326T154500
DTEND;TZID=UTC:20250326T170000
DTSTAMP:20260424T035709
CREATED:20250113T135109Z
LAST-MODIFIED:20250113T135109Z
UID:2437-1743003900-1743008400@www.tamesideschoolsport.co.uk
SUMMARY:Basketball Heat 4
DESCRIPTION:INTENT: Competitive event leading to a finals. \nAUDIENCE: Y5/6 Mixed event with min of 2 boys and 2 girls on the court at any one time. 5 in a team
URL:https://www.tamesideschoolsport.co.uk/event/basketball-heat-4/
LOCATION:Great Academy Ashton
ORGANIZER;CN="Tameside SSP":MAILTO:Emma.toone@gaa.org.uk
END:VEVENT
END:VCALENDAR