BEGIN:VCALENDAR
VERSION:2.0
PRODID:-//Tameside School Sports Partnership - ECPv6.9.1//NONSGML v1.0//EN
CALSCALE:GREGORIAN
METHOD:PUBLISH
X-WR-CALNAME:Tameside School Sports Partnership
X-ORIGINAL-URL:https://www.tamesideschoolsport.co.uk
X-WR-CALDESC:Events for Tameside School Sports Partnership
REFRESH-INTERVAL;VALUE=DURATION:PT1H
X-Robots-Tag:noindex
X-PUBLISHED-TTL:PT1H
BEGIN:VTIMEZONE
TZID:UTC
BEGIN:STANDARD
TZOFFSETFROM:+0000
TZOFFSETTO:+0000
TZNAME:UTC
DTSTART:20250101T000000
END:STANDARD
END:VTIMEZONE
BEGIN:VEVENT
DTSTART;TZID=UTC:20250327T153000
DTEND;TZID=UTC:20250327T170000
DTSTAMP:20260424T035700
CREATED:20250107T165538Z
LAST-MODIFIED:20250107T165538Z
UID:2269-1743089400-1743094800@www.tamesideschoolsport.co.uk
SUMMARY:Off the Blocks Y7 Finals
DESCRIPTION:Venue: St Damians or Hyde
URL:https://www.tamesideschoolsport.co.uk/event/off-the-blocks-y7-finals/
LOCATION:St Damians or Hyde
ORGANIZER;CN="Tameside PEA":MAILTO:emma.toone@gaa.org.uk
END:VEVENT
BEGIN:VEVENT
DTSTART;TZID=UTC:20250327T154500
DTEND;TZID=UTC:20250327T170000
DTSTAMP:20260424T035700
CREATED:20250107T122815Z
LAST-MODIFIED:20250107T122815Z
UID:2106-1743090300-1743094800@www.tamesideschoolsport.co.uk
SUMMARY:Basketball Heat 3
DESCRIPTION:INTENT: Competitive event leading to a finals. \nAUDIENCE: Y5/6 Mixed event with min of 2 boys and 2 girls on the court at any one time. 5 in a team
URL:https://www.tamesideschoolsport.co.uk/event/basketball-heat-3/
LOCATION:Astley Sports Village
ORGANIZER;CN="Tameside SSP":MAILTO:Emma.toone@gaa.org.uk
END:VEVENT
BEGIN:VEVENT
DTSTART;TZID=UTC:20250327T154500
DTEND;TZID=UTC:20250327T171500
DTSTAMP:20260424T035700
CREATED:20250227T152209Z
LAST-MODIFIED:20250227T152315Z
UID:2583-1743090300-1743095700@www.tamesideschoolsport.co.uk
SUMMARY:Basketball Heat 5
DESCRIPTION:
URL:https://www.tamesideschoolsport.co.uk/event/basketball-heat-5/
LOCATION:Denton Community Academy
ORGANIZER;CN="Tameside SSP":MAILTO:Emma.toone@gaa.org.uk
END:VEVENT
END:VCALENDAR