BEGIN:VCALENDAR
VERSION:2.0
PRODID:-//Tameside School Sports Partnership - ECPv6.9.1//NONSGML v1.0//EN
CALSCALE:GREGORIAN
METHOD:PUBLISH
X-WR-CALNAME:Tameside School Sports Partnership
X-ORIGINAL-URL:https://www.tamesideschoolsport.co.uk
X-WR-CALDESC:Events for Tameside School Sports Partnership
REFRESH-INTERVAL;VALUE=DURATION:PT1H
X-Robots-Tag:noindex
X-PUBLISHED-TTL:PT1H
BEGIN:VTIMEZONE
TZID:UTC
BEGIN:STANDARD
TZOFFSETFROM:+0000
TZOFFSETTO:+0000
TZNAME:UTC
DTSTART:20250101T000000
END:STANDARD
END:VTIMEZONE
BEGIN:VEVENT
DTSTART;TZID=UTC:20250501T154500
DTEND;TZID=UTC:20250501T171500
DTSTAMP:20260424T013831
CREATED:20250402T132053Z
LAST-MODIFIED:20250404T141506Z
UID:2692-1746114300-1746119700@www.tamesideschoolsport.co.uk
SUMMARY:BEE netball Y3/4
DESCRIPTION:INTENT: Fun and developmental \nAUDIENCE: Years 3/4 with 5-9 pupils (5 on the court). Will be some fun skill stations with some match play too.
URL:https://www.tamesideschoolsport.co.uk/event/bee-netball-y3-4/
LOCATION:Denton Community Academy
ORGANIZER;CN="Tameside SSP":MAILTO:Emma.toone@gaa.org.uk
END:VEVENT
BEGIN:VEVENT
DTSTART;TZID=UTC:20250501T160000
DTEND;TZID=UTC:20250501T170000
DTSTAMP:20260424T013831
CREATED:20250425T161143Z
LAST-MODIFIED:20250425T161143Z
UID:3055-1746115200-1746118800@www.tamesideschoolsport.co.uk
SUMMARY:Boys Development Football Y10
DESCRIPTION:
URL:https://www.tamesideschoolsport.co.uk/event/boys-development-football-y10/
LOCATION:Copley Academy\, Huddersfield Rd\, Stalybridge\, SK153RR\, United Kingdom
ORGANIZER;CN="Tameside PEA":MAILTO:emma.toone@gaa.org.uk
END:VEVENT
END:VCALENDAR