BEGIN:VCALENDAR
VERSION:2.0
PRODID:-//Tameside School Sports Partnership - ECPv6.9.1//NONSGML v1.0//EN
CALSCALE:GREGORIAN
METHOD:PUBLISH
X-ORIGINAL-URL:https://www.tamesideschoolsport.co.uk
X-WR-CALDESC:Events for Tameside School Sports Partnership
REFRESH-INTERVAL;VALUE=DURATION:PT1H
X-Robots-Tag:noindex
X-PUBLISHED-TTL:PT1H
BEGIN:VTIMEZONE
TZID:UTC
BEGIN:STANDARD
TZOFFSETFROM:+0000
TZOFFSETTO:+0000
TZNAME:UTC
DTSTART:20250101T000000
END:STANDARD
END:VTIMEZONE
BEGIN:VEVENT
DTSTART;TZID=UTC:20250515T160000
DTEND;TZID=UTC:20250515T170000
DTSTAMP:20260424T014643
CREATED:20250402T134031Z
LAST-MODIFIED:20250402T134031Z
UID:2706-1747324800-1747328400@www.tamesideschoolsport.co.uk
SUMMARY:Lionesses Y3/4 festival
DESCRIPTION:INTENT: A fun and developmental festival with no scores kept- its all about the skill and teamwork \nAUDIENCE: Year 3/4s girls. Teams of 5
URL:https://www.tamesideschoolsport.co.uk/event/lionesses-y3-4-festival/
LOCATION:Curzon Ashton FC
ORGANIZER;CN="Tameside SSP":MAILTO:Emma.toone@gaa.org.uk
END:VEVENT
BEGIN:VEVENT
DTSTART;TZID=UTC:20250515T160000
DTEND;TZID=UTC:20250515T170000
DTSTAMP:20260424T014643
CREATED:20250425T161314Z
LAST-MODIFIED:20250425T161335Z
UID:3062-1747324800-1747328400@www.tamesideschoolsport.co.uk
SUMMARY:Boys Development Football Y8
DESCRIPTION:
URL:https://www.tamesideschoolsport.co.uk/event/boys-development-football-y8/
LOCATION:Copley Academy\, Huddersfield Rd\, Stalybridge\, SK153RR\, United Kingdom
ORGANIZER;CN="Tameside PEA":MAILTO:emma.toone@gaa.org.uk
END:VEVENT
END:VCALENDAR