BEGIN:VCALENDAR
VERSION:2.0
PRODID:-//Tameside School Sports Partnership - ECPv6.9.1//NONSGML v1.0//EN
CALSCALE:GREGORIAN
METHOD:PUBLISH
X-ORIGINAL-URL:https://www.tamesideschoolsport.co.uk
X-WR-CALDESC:Events for Tameside School Sports Partnership
REFRESH-INTERVAL;VALUE=DURATION:PT1H
X-Robots-Tag:noindex
X-PUBLISHED-TTL:PT1H
BEGIN:VTIMEZONE
TZID:UTC
BEGIN:STANDARD
TZOFFSETFROM:+0000
TZOFFSETTO:+0000
TZNAME:UTC
DTSTART:20250101T000000
END:STANDARD
END:VTIMEZONE
BEGIN:VEVENT
DTSTART;TZID=UTC:20250522T130000
DTEND;TZID=UTC:20250522T160000
DTSTAMP:20260424T013919
CREATED:20250402T140509Z
LAST-MODIFIED:20250402T141244Z
UID:2723-1747918800-1747929600@www.tamesideschoolsport.co.uk
SUMMARY:Girls cricket Y5/6
DESCRIPTION:INTENT: A competitive event with a county pathway \nAUDIENCE: Y5/6 girls. 8 in a squad.
URL:https://www.tamesideschoolsport.co.uk/event/girls-cricket-y5-6/
LOCATION:Denton Cricket club\, Egerton St\, Manchester M34 3PB\, M34 3PB
ORGANIZER;CN="Tameside SSP":MAILTO:Emma.toone@gaa.org.uk
END:VEVENT
BEGIN:VEVENT
DTSTART;TZID=UTC:20250522T160000
DTEND;TZID=UTC:20250522T170000
DTSTAMP:20260424T013919
CREATED:20250425T161419Z
LAST-MODIFIED:20250425T161419Z
UID:3067-1747929600-1747933200@www.tamesideschoolsport.co.uk
SUMMARY:Boys Development Football Y7
DESCRIPTION:
URL:https://www.tamesideschoolsport.co.uk/event/boys-development-football-y7/
LOCATION:Copley Academy\, Huddersfield Rd\, Stalybridge\, SK153RR\, United Kingdom
ORGANIZER;CN="Tameside PEA":MAILTO:emma.toone@gaa.org.uk
END:VEVENT
END:VCALENDAR