BEGIN:VCALENDAR
VERSION:2.0
PRODID:-//Tameside School Sports Partnership - ECPv6.9.1//NONSGML v1.0//EN
CALSCALE:GREGORIAN
METHOD:PUBLISH
X-WR-CALNAME:Tameside School Sports Partnership
X-ORIGINAL-URL:https://www.tamesideschoolsport.co.uk
X-WR-CALDESC:Events for Tameside School Sports Partnership
REFRESH-INTERVAL;VALUE=DURATION:PT1H
X-Robots-Tag:noindex
X-PUBLISHED-TTL:PT1H
BEGIN:VTIMEZONE
TZID:UTC
BEGIN:STANDARD
TZOFFSETFROM:+0000
TZOFFSETTO:+0000
TZNAME:UTC
DTSTART:20250101T000000
END:STANDARD
END:VTIMEZONE
BEGIN:VEVENT
DTSTART;TZID=UTC:20250612T130000
DTEND;TZID=UTC:20250612T160000
DTSTAMP:20260424T001356
CREATED:20250402T144835Z
LAST-MODIFIED:20250402T144835Z
UID:2740-1749733200-1749744000@www.tamesideschoolsport.co.uk
SUMMARY:Allstars Cricket Fun Fest Y3/4
DESCRIPTION:INTENT: A fun\, development festival to promote cricket in Tameside \nAUDIENCE: 6 boys and 6 girls per team\, Year 3/ 4 pupils. \nSkill stations and games
URL:https://www.tamesideschoolsport.co.uk/event/allstars-cricket-fun-fest-y3-4/
LOCATION:Ashton cricket club
ORGANIZER;CN="Tameside SSP":MAILTO:Emma.toone@gaa.org.uk
END:VEVENT
BEGIN:VEVENT
DTSTART;TZID=UTC:20250612T160000
DTEND;TZID=UTC:20250612T170000
DTSTAMP:20260424T001356
CREATED:20250523T133159Z
LAST-MODIFIED:20250523T133159Z
UID:3168-1749744000-1749747600@www.tamesideschoolsport.co.uk
SUMMARY:Rounders Y10
DESCRIPTION:
URL:https://www.tamesideschoolsport.co.uk/event/rounders-y10/
LOCATION:TBC
ORGANIZER;CN="Tameside SSP":MAILTO:Emma.toone@gaa.org.uk
END:VEVENT
END:VCALENDAR