BEGIN:VCALENDAR
VERSION:2.0
PRODID:-//Tameside School Sports Partnership - ECPv6.9.1//NONSGML v1.0//EN
CALSCALE:GREGORIAN
METHOD:PUBLISH
X-WR-CALNAME:Tameside School Sports Partnership
X-ORIGINAL-URL:https://www.tamesideschoolsport.co.uk
X-WR-CALDESC:Events for Tameside School Sports Partnership
REFRESH-INTERVAL;VALUE=DURATION:PT1H
X-Robots-Tag:noindex
X-PUBLISHED-TTL:PT1H
BEGIN:VTIMEZONE
TZID:UTC
BEGIN:STANDARD
TZOFFSETFROM:+0000
TZOFFSETTO:+0000
TZNAME:UTC
DTSTART:20250101T000000
END:STANDARD
END:VTIMEZONE
BEGIN:VEVENT
DTSTART;TZID=UTC:20250613T090000
DTEND;TZID=UTC:20250613T150000
DTSTAMP:20260424T000747
CREATED:20250402T145053Z
LAST-MODIFIED:20250604T161515Z
UID:2744-1749805200-1749826800@www.tamesideschoolsport.co.uk
SUMMARY:PE Lead Teacher network day
DESCRIPTION:PE lead teacher network day \nAgenda \n9-9.15am Arrivals and welcome \n9.15-9.45am National updates & local updates \n9.45am  PE Premium Online reporting tool \n10.30am Break \n10.45am AfPE CEO Kate Thornton- Bousfield \n12pm Dinner \n12.45pm Active Tameside \n1.15pm School Games Mark workshop \n2pm Future plans \n2.30pm Goodbyes and the Big Thank You \n3pm Finish
URL:https://www.tamesideschoolsport.co.uk/event/pe-lead-teacher-network-day-2/
LOCATION:The Village Hotel\, Ashton-Under-Lyne\, Ashton Moss
ORGANIZER;CN="Tameside SSP":MAILTO:Emma.toone@gaa.org.uk
END:VEVENT
END:VCALENDAR