BEGIN:VCALENDAR
VERSION:2.0
PRODID:-//Tameside School Sports Partnership - ECPv6.9.1//NONSGML v1.0//EN
CALSCALE:GREGORIAN
METHOD:PUBLISH
X-WR-CALNAME:Tameside School Sports Partnership
X-ORIGINAL-URL:https://www.tamesideschoolsport.co.uk
X-WR-CALDESC:Events for Tameside School Sports Partnership
REFRESH-INTERVAL;VALUE=DURATION:PT1H
X-Robots-Tag:noindex
X-PUBLISHED-TTL:PT1H
BEGIN:VTIMEZONE
TZID:UTC
BEGIN:STANDARD
TZOFFSETFROM:+0000
TZOFFSETTO:+0000
TZNAME:UTC
DTSTART:20250101T000000
END:STANDARD
END:VTIMEZONE
BEGIN:VEVENT
DTSTART;TZID=UTC:20250619T154500
DTEND;TZID=UTC:20250619T170000
DTSTAMP:20260424T000747
CREATED:20250402T145757Z
LAST-MODIFIED:20250402T145757Z
UID:2749-1750347900-1750352400@www.tamesideschoolsport.co.uk
SUMMARY:Glow Dodgeball Y5/6
DESCRIPTION:INTENT: A fun event – like a party! \nAUDIENCE: Years 5/6 mixed teams with 3 boys and 3 girls in a team. Please aim for children who are not as engaged in sport/ teams. \nBe ready for a party- please dress in UV/ bright clothing and bring the face paint! The crazier the outfit the better. Lights will be dimmed and music will be playing.
URL:https://www.tamesideschoolsport.co.uk/event/glow-dodgeball-y5-6/
LOCATION:Astley Sports Village
ORGANIZER;CN="Tameside SSP":MAILTO:Emma.toone@gaa.org.uk
END:VEVENT
BEGIN:VEVENT
DTSTART;TZID=UTC:20250619T160000
DTEND;TZID=UTC:20250619T170000
DTSTAMP:20260424T000747
CREATED:20250523T133305Z
LAST-MODIFIED:20250523T133554Z
UID:3174-1750348800-1750352400@www.tamesideschoolsport.co.uk
SUMMARY:Rounders Y9
DESCRIPTION:
URL:https://www.tamesideschoolsport.co.uk/event/rounders-y9/
LOCATION:TBC
ORGANIZER;CN="Tameside SSP":MAILTO:Emma.toone@gaa.org.uk
END:VEVENT
END:VCALENDAR