BEGIN:VCALENDAR
VERSION:2.0
PRODID:-//Tameside School Sports Partnership - ECPv6.9.1//NONSGML v1.0//EN
CALSCALE:GREGORIAN
METHOD:PUBLISH
X-WR-CALNAME:Tameside School Sports Partnership
X-ORIGINAL-URL:https://www.tamesideschoolsport.co.uk
X-WR-CALDESC:Events for Tameside School Sports Partnership
REFRESH-INTERVAL;VALUE=DURATION:PT1H
X-Robots-Tag:noindex
X-PUBLISHED-TTL:PT1H
BEGIN:VTIMEZONE
TZID:UTC
BEGIN:STANDARD
TZOFFSETFROM:+0000
TZOFFSETTO:+0000
TZNAME:UTC
DTSTART:20250101T000000
END:STANDARD
END:VTIMEZONE
BEGIN:VEVENT
DTSTART;TZID=UTC:20250625T154500
DTEND;TZID=UTC:20250625T171500
DTSTAMP:20260424T002629
CREATED:20250402T114147Z
LAST-MODIFIED:20250402T121604Z
UID:2678-1750866300-1750871700@www.tamesideschoolsport.co.uk
SUMMARY:Rounders Heat 2
DESCRIPTION:INTENT: Competitive event for confident children \nAUDIENCE: Years 5/6 pupils. 9 in a team with a max of 11 in a squad. Mixed gender with maximum of 5 boys on the pitch.
URL:https://www.tamesideschoolsport.co.uk/event/rounders-heat-2/
LOCATION:Denton Community Academy
ORGANIZER;CN="Tameside SSP":MAILTO:Emma.toone@gaa.org.uk
END:VEVENT
BEGIN:VEVENT
DTSTART;TZID=UTC:20250625T160000
DTEND;TZID=UTC:20250625T170000
DTSTAMP:20260424T002629
CREATED:20250523T132847Z
LAST-MODIFIED:20250606T121854Z
UID:3160-1750867200-1750870800@www.tamesideschoolsport.co.uk
SUMMARY:Pickleball Y7 & 8 Come and try fest
DESCRIPTION:In 2’s can be single sex or mixed
URL:https://www.tamesideschoolsport.co.uk/event/pickleball-y8/
LOCATION:Alder CHS
ORGANIZER;CN="Tameside PEA":MAILTO:emma.toone@gaa.org.uk
END:VEVENT
END:VCALENDAR