BEGIN:VCALENDAR
VERSION:2.0
PRODID:-//Tameside School Sports Partnership - ECPv6.9.1//NONSGML v1.0//EN
CALSCALE:GREGORIAN
METHOD:PUBLISH
X-WR-CALNAME:Tameside School Sports Partnership
X-ORIGINAL-URL:https://www.tamesideschoolsport.co.uk
X-WR-CALDESC:Events for Tameside School Sports Partnership
REFRESH-INTERVAL;VALUE=DURATION:PT1H
X-Robots-Tag:noindex
X-PUBLISHED-TTL:PT1H
BEGIN:VTIMEZONE
TZID:UTC
BEGIN:STANDARD
TZOFFSETFROM:+0000
TZOFFSETTO:+0000
TZNAME:UTC
DTSTART:20250101T000000
END:STANDARD
END:VTIMEZONE
BEGIN:VEVENT
DTSTART;TZID=UTC:20250710T100000
DTEND;TZID=UTC:20250710T120000
DTSTAMP:20260423T225627
CREATED:20250402T150556Z
LAST-MODIFIED:20250508T125656Z
UID:2753-1752141600-1752148800@www.tamesideschoolsport.co.uk
SUMMARY:ET7 (Ella Toone) 3 v 3 inflatable mixed football y5/6
DESCRIPTION:INTENT: A fun but competitive festival to promote equality and girls football. \nAUDIENCE: 6 per team. 3 boys and 3 girls. Girls play the first half of the game and boys play the second.
URL:https://www.tamesideschoolsport.co.uk/event/3-v-3-inflatable-mixed-football-y5-6/
LOCATION:Curzon Ashton FC
ORGANIZER;CN="Tameside SSP":MAILTO:Emma.toone@gaa.org.uk
END:VEVENT
BEGIN:VEVENT
DTSTART;TZID=UTC:20250710T130000
DTEND;TZID=UTC:20250710T150000
DTSTAMP:20260423T225627
CREATED:20250402T153024Z
LAST-MODIFIED:20250508T130127Z
UID:2835-1752152400-1752159600@www.tamesideschoolsport.co.uk
SUMMARY:ET7 (Ella Toone) Euro's 3 v 3 Girls football - KS3
DESCRIPTION:INTENT: Fun but competitive event to promote Womens Euros \nAUDIENCE: KS3 girls. 3 in a team but can have more than 1 team. Inflatable pitches.
URL:https://www.tamesideschoolsport.co.uk/event/euros-3-v-3-girls-football-ks3/
LOCATION:Curzon Ashton FC
ORGANIZER;CN="Tameside SSP":MAILTO:Emma.toone@gaa.org.uk
END:VEVENT
END:VCALENDAR