BEGIN:VCALENDAR
VERSION:2.0
PRODID:-//Tameside School Sports Partnership - ECPv6.9.1//NONSGML v1.0//EN
CALSCALE:GREGORIAN
METHOD:PUBLISH
X-ORIGINAL-URL:https://www.tamesideschoolsport.co.uk
X-WR-CALDESC:Events for Tameside School Sports Partnership
REFRESH-INTERVAL;VALUE=DURATION:PT1H
X-Robots-Tag:noindex
X-PUBLISHED-TTL:PT1H
BEGIN:VTIMEZONE
TZID:UTC
BEGIN:STANDARD
TZOFFSETFROM:+0000
TZOFFSETTO:+0000
TZNAME:UTC
DTSTART:20250101T000000
END:STANDARD
END:VTIMEZONE
BEGIN:VEVENT
DTSTART;TZID=UTC:20250715T154500
DTEND;TZID=UTC:20250715T170000
DTSTAMP:20260423T225731
CREATED:20250319T141706Z
LAST-MODIFIED:20250319T141706Z
UID:2627-1752594300-1752598800@www.tamesideschoolsport.co.uk
SUMMARY:Primary Boxing festival
DESCRIPTION:INTENT \nA fun skills festival using stations and point scoring. Aim is to promote the development of boxing. Competitive. \nAUDIENCE \nPupils should be trained by the attendees of the Schools Boxing award. Any number of pupils. Any year group.
URL:https://www.tamesideschoolsport.co.uk/event/primary-boxing-festival/
LOCATION:Great Academy Ashton
ORGANIZER;CN="Tameside SSP":MAILTO:Emma.toone@gaa.org.uk
END:VEVENT
END:VCALENDAR