BEGIN:VCALENDAR
VERSION:2.0
PRODID:-//Tameside School Sports Partnership - ECPv6.9.1//NONSGML v1.0//EN
CALSCALE:GREGORIAN
METHOD:PUBLISH
X-WR-CALNAME:Tameside School Sports Partnership
X-ORIGINAL-URL:https://www.tamesideschoolsport.co.uk
X-WR-CALDESC:Events for Tameside School Sports Partnership
REFRESH-INTERVAL;VALUE=DURATION:PT1H
X-Robots-Tag:noindex
X-PUBLISHED-TTL:PT1H
BEGIN:VTIMEZONE
TZID:UTC
BEGIN:STANDARD
TZOFFSETFROM:+0000
TZOFFSETTO:+0000
TZNAME:UTC
DTSTART:20260101T000000
END:STANDARD
END:VTIMEZONE
BEGIN:VEVENT
DTSTART;TZID=UTC:20260422T154500
DTEND;TZID=UTC:20260422T171500
DTSTAMP:20260422T014355
CREATED:20260327T141607Z
LAST-MODIFIED:20260327T141607Z
UID:4760-1776872700-1776878100@www.tamesideschoolsport.co.uk
SUMMARY:Netball High 5 Heat 1
DESCRIPTION:INTENT: Competitive event with finals at a later date. Pupils who are competent and confident. \nAUDIENCE: Squad size of 7/8/9 with either single sex (female) or a max of 3 boys (2 boys on court at any one time and must be in different thirds).
URL:https://www.tamesideschoolsport.co.uk/event/netball-high-5-heat-1/
LOCATION:Denton Community Academy
ORGANIZER;CN="Tameside SSP":MAILTO:Emma.toone@gaa.org.uk
END:VEVENT
END:VCALENDAR