BEGIN:VCALENDAR
VERSION:2.0
PRODID:-//Tameside School Sports Partnership - ECPv6.9.1//NONSGML v1.0//EN
CALSCALE:GREGORIAN
METHOD:PUBLISH
X-WR-CALNAME:Tameside School Sports Partnership
X-ORIGINAL-URL:https://www.tamesideschoolsport.co.uk
X-WR-CALDESC:Events for Tameside School Sports Partnership
REFRESH-INTERVAL;VALUE=DURATION:PT1H
X-Robots-Tag:noindex
X-PUBLISHED-TTL:PT1H
BEGIN:VTIMEZONE
TZID:UTC
BEGIN:STANDARD
TZOFFSETFROM:+0000
TZOFFSETTO:+0000
TZNAME:UTC
DTSTART:20260101T000000
END:STANDARD
END:VTIMEZONE
BEGIN:VEVENT
DTSTART;TZID=UTC:20260423T154500
DTEND;TZID=UTC:20260423T170000
DTSTAMP:20260423T015421
CREATED:20260327T135041Z
LAST-MODIFIED:20260417T120900Z
UID:4754-1776959100-1776963600@www.tamesideschoolsport.co.uk
SUMMARY:BEE netball Festival Y3/4
DESCRIPTION:INTENT: Developmental & fun \nAUDIENCE: Y3/4 Teams of 7. Fun skills circuits\, shooting games and some match play. Can be single sex (girls) or max of 3 boys in the squad.
URL:https://www.tamesideschoolsport.co.uk/event/4754/
LOCATION:Astley Sports Village
ORGANIZER;CN="Tameside SSP":MAILTO:Emma.toone@gaa.org.uk
END:VEVENT
END:VCALENDAR