BEGIN:VCALENDAR
VERSION:2.0
PRODID:-//Tameside School Sports Partnership - ECPv6.9.1//NONSGML v1.0//EN
CALSCALE:GREGORIAN
METHOD:PUBLISH
X-WR-CALNAME:Tameside School Sports Partnership
X-ORIGINAL-URL:https://www.tamesideschoolsport.co.uk
X-WR-CALDESC:Events for Tameside School Sports Partnership
REFRESH-INTERVAL;VALUE=DURATION:PT1H
X-Robots-Tag:noindex
X-PUBLISHED-TTL:PT1H
BEGIN:VTIMEZONE
TZID:UTC
BEGIN:STANDARD
TZOFFSETFROM:+0000
TZOFFSETTO:+0000
TZNAME:UTC
DTSTART:20240101T000000
END:STANDARD
END:VTIMEZONE
BEGIN:VEVENT
DTSTART;TZID=UTC:20241107T160000
DTEND;TZID=UTC:20241107T170000
DTSTAMP:20260422T141537
CREATED:20240920T134713Z
LAST-MODIFIED:20240920T134713Z
UID:1472-1730995200-1730998800@www.tamesideschoolsport.co.uk
SUMMARY:Lionesses Y5/6 Girls Football
DESCRIPTION:INTENT: An opportunity to come and test your players/ teams out and develop their skills and teamwork without the pressure of scores/ leagues. \nAUDIENCE: Year 5/6 girls. 5 a side.
URL:https://www.tamesideschoolsport.co.uk/event/lionesses-y5-6-girls-football-3/
LOCATION:Curzon Ashton FC
CATEGORIES:Primary School
ORGANIZER;CN="Tameside SSP":MAILTO:Emma.toone@gaa.org.uk
END:VEVENT
BEGIN:VEVENT
DTSTART;TZID=UTC:20241115T100000
DTEND;TZID=UTC:20241115T140000
DTSTAMP:20260422T141537
CREATED:20240920T140330Z
LAST-MODIFIED:20240920T140330Z
UID:1485-1731664800-1731679200@www.tamesideschoolsport.co.uk
SUMMARY:Action Sports Festival
DESCRIPTION:INTENT: A fun festival designed to give pupils the confidence to try something they may not have done before or may not have had the confidence to. Includes scooting\, trampolining\, climbing etc \nAUDIENCE: 4- 6 children from KS2 who may not be engaged with mainstream sport or have low confidence. \n1 team per school please
URL:https://www.tamesideschoolsport.co.uk/event/action-sports-festival/
LOCATION:Graystone Action sports\, Salford\, M5 4BE
CATEGORIES:Primary School
ORGANIZER;CN="Tameside SSP":MAILTO:Emma.toone@gaa.org.uk
END:VEVENT
BEGIN:VEVENT
DTSTART;TZID=UTC:20241120T154500
DTEND;TZID=UTC:20241120T170000
DTSTAMP:20260422T141537
CREATED:20240920T140954Z
LAST-MODIFIED:20240920T140954Z
UID:1495-1732117500-1732122000@www.tamesideschoolsport.co.uk
SUMMARY:Indoor Hockey Heat 2
DESCRIPTION:INTENT: A competitive event to encourage the development of skills. We have moved the event indoors to encourage a positive experience of competition (and not freezing!). Should be your most competent and confident pupils. \nAUDIENCE: Pupils in Y5/6 – 6 in a squad- 4 on the pitch with rolling subs. No Goal keepers. Equipment indoor Uni Hoc sticks and Air flow ball. Relaxation of rules with both sides of stick can be used.
URL:https://www.tamesideschoolsport.co.uk/event/indoor-hockey-heat-2/
LOCATION:Great Academy Ashton
CATEGORIES:Primary School
ORGANIZER;CN="Tameside SSP":MAILTO:Emma.toone@gaa.org.uk
END:VEVENT
BEGIN:VEVENT
DTSTART;TZID=UTC:20241121T154500
DTEND;TZID=UTC:20241121T170000
DTSTAMP:20260422T141537
CREATED:20240920T141102Z
LAST-MODIFIED:20240920T141102Z
UID:1500-1732203900-1732208400@www.tamesideschoolsport.co.uk
SUMMARY:Indoor Hockey Heat 3
DESCRIPTION:INTENT: A competitive event to encourage the development of skills. We have moved the event indoors to encourage a positive experience of competition (and not freezing!). Should be your most competent and confident pupils. \nAUDIENCE: Pupils in Y5/6 – 6 in a squad- 4 on the pitch with rolling subs. No Goal keepers. Equipment indoor Uni Hoc sticks and Air flow ball. Relaxation of rules with both sides of stick can be used.
URL:https://www.tamesideschoolsport.co.uk/event/indoor-hockey-heat-3/
LOCATION:Laurus Ryecroft
CATEGORIES:Primary School
ORGANIZER;CN="Tameside SSP":MAILTO:Emma.toone@gaa.org.uk
END:VEVENT
BEGIN:VEVENT
DTSTART;TZID=UTC:20241122T154500
DTEND;TZID=UTC:20241122T170000
DTSTAMP:20260422T141537
CREATED:20240920T141342Z
LAST-MODIFIED:20240920T141342Z
UID:1508-1732290300-1732294800@www.tamesideschoolsport.co.uk
SUMMARY:Futsal Girls Pokemon Y5/6
DESCRIPTION:INTENT: A development but competitive event to promote girls football and futsal. \nAUDIENCE: Year 5/6. 5 a side with up to 8 in a squad.
URL:https://www.tamesideschoolsport.co.uk/event/futsal-girls-pokemon-y5-6/
LOCATION:Astley Sports Village
CATEGORIES:Primary School
ORGANIZER;CN="Tameside SSP":MAILTO:Emma.toone@gaa.org.uk
END:VEVENT
BEGIN:VEVENT
DTSTART;TZID=UTC:20241126T154500
DTEND;TZID=UTC:20241126T170000
DTSTAMP:20260422T141537
CREATED:20240920T141537Z
LAST-MODIFIED:20241120T115614Z
UID:1517-1732635900-1732640400@www.tamesideschoolsport.co.uk
SUMMARY:Indoor Hockey Finals
DESCRIPTION:
URL:https://www.tamesideschoolsport.co.uk/event/indoor-hockey-finals/
LOCATION:Ashton 6th Form\, OL69RL
CATEGORIES:Primary School
ORGANIZER;CN="Tameside SSP":MAILTO:Emma.toone@gaa.org.uk
END:VEVENT
BEGIN:VEVENT
DTSTART;TZID=UTC:20241128T154500
DTEND;TZID=UTC:20241128T170000
DTSTAMP:20260422T141537
CREATED:20240920T155920Z
LAST-MODIFIED:20240920T155920Z
UID:1555-1732808700-1732813200@www.tamesideschoolsport.co.uk
SUMMARY:Glow Dodgeball Y5/6 Girls Only
DESCRIPTION:INTENT: A fun dodgeball event with some competition but mostly music and face paint! \nAUDIENCE: Girls only event in Y5/6. Wear neon outfits and face paint welcome! Lights will be dimmed and music will be playing as it is literally a party!
URL:https://www.tamesideschoolsport.co.uk/event/glow-dodgeball-y5-6-girls-only/
LOCATION:Astley Sports Village
CATEGORIES:Primary School
ORGANIZER;CN="Tameside SSP":MAILTO:Emma.toone@gaa.org.uk
END:VEVENT
BEGIN:VEVENT
DTSTART;TZID=UTC:20241129T154500
DTEND;TZID=UTC:20241129T170000
DTSTAMP:20260422T141537
CREATED:20240920T144517Z
LAST-MODIFIED:20240920T144517Z
UID:1522-1732895100-1732899600@www.tamesideschoolsport.co.uk
SUMMARY:Futsal Girls Pokemon Y3/4
DESCRIPTION:INTENT: A development but competitive event to promote girls football and futsal. \nAUDIENCE: Year 3/4. 5 a side with up to 8 in a squad.
URL:https://www.tamesideschoolsport.co.uk/event/futsal-girls-pokemon-y3-4/
LOCATION:Astley Sports Village
CATEGORIES:Primary School
ORGANIZER;CN="Tameside SSP":MAILTO:Emma.toone@gaa.org.uk
END:VEVENT
END:VCALENDAR