BEGIN:VCALENDAR
VERSION:2.0
PRODID:-//Tameside School Sports Partnership - ECPv6.9.1//NONSGML v1.0//EN
CALSCALE:GREGORIAN
METHOD:PUBLISH
X-ORIGINAL-URL:https://www.tamesideschoolsport.co.uk
X-WR-CALDESC:Events for Tameside School Sports Partnership
REFRESH-INTERVAL;VALUE=DURATION:PT1H
X-Robots-Tag:noindex
X-PUBLISHED-TTL:PT1H
BEGIN:VTIMEZONE
TZID:UTC
BEGIN:STANDARD
TZOFFSETFROM:+0000
TZOFFSETTO:+0000
TZNAME:UTC
DTSTART:20240101T000000
END:STANDARD
END:VTIMEZONE
BEGIN:VEVENT
DTSTART;TZID=UTC:20241203T154500
DTEND;TZID=UTC:20241203T171500
DTSTAMP:20260422T110729
CREATED:20240920T153636Z
LAST-MODIFIED:20241118T142233Z
UID:1534-1733240700-1733246100@www.tamesideschoolsport.co.uk
SUMMARY:Disney Y1/2 Football fest
DESCRIPTION:INTENT: A fun football & literacy event where everyone is invited to dress up as their favourite Disney character and play a bit of football. \nAUDIENCE: Girls in KS1. Disney theme a must so dress up or stick some Mickey ears on! No football experience necessary. Ideally being between 5-7 pupils.
URL:https://www.tamesideschoolsport.co.uk/event/disney-y1-2-football-fest/
LOCATION:Great Academy Ashton
CATEGORIES:Primary School
ORGANIZER;CN="Tameside SSP":MAILTO:Emma.toone@gaa.org.uk
END:VEVENT
BEGIN:VEVENT
DTSTART;TZID=UTC:20241204T100000
DTEND;TZID=UTC:20241204T120000
DTSTAMP:20260422T110729
CREATED:20240920T153331Z
LAST-MODIFIED:20241120T135644Z
UID:1531-1733306400-1733313600@www.tamesideschoolsport.co.uk
SUMMARY:SEND Panathlon- Ten Pin bowling
DESCRIPTION:INTENT: Fun but competitive event with a GM pathway \nAUDIENCE: For KS2 pupils with SEND. This year you can bring more than 1 team as we have moved venue to the Hollywood Bowl in Ashton-Under-Lyne. Teams of 6
URL:https://www.tamesideschoolsport.co.uk/event/send-panathlon-ten-pin-bowling/
LOCATION:Hollywood Bowl\, Ashton-Under-Lyne
CATEGORIES:Primary School
ORGANIZER;CN="Tameside SSP":MAILTO:Emma.toone@gaa.org.uk
END:VEVENT
BEGIN:VEVENT
DTSTART;TZID=UTC:20241205T154500
DTEND;TZID=UTC:20241205T170000
DTSTAMP:20260422T110729
CREATED:20240920T141809Z
LAST-MODIFIED:20240920T155445Z
UID:1519-1733413500-1733418000@www.tamesideschoolsport.co.uk
SUMMARY:Glow Dodgeball Y5/6 Mixed
DESCRIPTION:INTENT: A fun dodgeball event with some competition but mostly music and face paint! Christmas themed! \nAUDIENCE: Mixed gender event in Y5/6. Wear neon outfits and face paint welcome! Lights will be dimmed and music will be playing as it is literally a party!
URL:https://www.tamesideschoolsport.co.uk/event/glow-dodgeball-girls-y5-6/
LOCATION:Astley Sports Village
CATEGORIES:Primary School
ORGANIZER;CN="Tameside SSP":MAILTO:Emma.toone@gaa.org.uk
END:VEVENT
BEGIN:VEVENT
DTSTART;TZID=UTC:20241206T133000
DTEND;TZID=UTC:20241206T150000
DTSTAMP:20260422T110729
CREATED:20240920T154251Z
LAST-MODIFIED:20240920T154358Z
UID:1543-1733491800-1733497200@www.tamesideschoolsport.co.uk
SUMMARY:Sports Quiz- online
DESCRIPTION:INTENT: Our annual sports quiz- will your team get a full house with tough questions on the world of sport! \nAUDIENCE: Any year group\, teams of 4. Online only
URL:https://www.tamesideschoolsport.co.uk/event/sports-quiz-online/
LOCATION:Online via Teams
CATEGORIES:Primary School
ORGANIZER;CN="Tameside SSP":MAILTO:Emma.toone@gaa.org.uk
END:VEVENT
BEGIN:VEVENT
DTSTART;TZID=UTC:20241211T160000
DTEND;TZID=UTC:20241211T183000
DTSTAMP:20260422T110729
CREATED:20240920T154932Z
LAST-MODIFIED:20240920T154932Z
UID:1547-1733932800-1733941800@www.tamesideschoolsport.co.uk
SUMMARY:Believe & Achieve Dance Festival
DESCRIPTION:INTENT: This is not a competitive event but an event to encourage children who may have low confidence to build their confidence in front of an audience. Schools will perform in front of each other first and then\, once our audience have arrived (of families etc)\, perform again in front of them. \nAUDIENCE: Years 1-6\, teams of between 2 and 20. Audience members will arrive on the night for 5.30pm (£2 entry with all proceeds going towards the Believe & Achieve Trust). Teams will arrive at 4pm. \nAll teams will receive a trophy and there will be no scoring. \n1 team per school
URL:https://www.tamesideschoolsport.co.uk/event/believe-achieve-dance-festival/
LOCATION:Great Academy Ashton
CATEGORIES:Primary School
ORGANIZER;CN="Tameside SSP":MAILTO:Emma.toone@gaa.org.uk
END:VEVENT
BEGIN:VEVENT
DTSTART;TZID=UTC:20241212T154500
DTEND;TZID=UTC:20241212T170000
DTSTAMP:20260422T110729
CREATED:20240920T155138Z
LAST-MODIFIED:20240920T155319Z
UID:1551-1734018300-1734022800@www.tamesideschoolsport.co.uk
SUMMARY:Glow Dodgeball Y3/4 Mixed
DESCRIPTION:INTENT: A fun dodgeball event with some competition but mostly music and face paint! Christmas themed! \nAUDIENCE: Mixed gender event in Y3/4. Wear neon outfits and face paint welcome! Lights will be dimmed and music will be playing as it is literally a party! Teams of 6
URL:https://www.tamesideschoolsport.co.uk/event/glow-dodgeball-y3-4-mixed/
LOCATION:Astley Sports Village
CATEGORIES:Primary School
ORGANIZER;CN="Tameside SSP":MAILTO:Emma.toone@gaa.org.uk
END:VEVENT
END:VCALENDAR