BEGIN:VCALENDAR
VERSION:2.0
PRODID:-//Tameside School Sports Partnership - ECPv6.9.1//NONSGML v1.0//EN
CALSCALE:GREGORIAN
METHOD:PUBLISH
X-ORIGINAL-URL:https://www.tamesideschoolsport.co.uk
X-WR-CALDESC:Events for Tameside School Sports Partnership
REFRESH-INTERVAL;VALUE=DURATION:PT1H
X-Robots-Tag:noindex
X-PUBLISHED-TTL:PT1H
BEGIN:VTIMEZONE
TZID:UTC
BEGIN:STANDARD
TZOFFSETFROM:+0000
TZOFFSETTO:+0000
TZNAME:UTC
DTSTART:20250101T000000
END:STANDARD
END:VTIMEZONE
BEGIN:VEVENT
DTSTART;TZID=UTC:20250403T100000
DTEND;TZID=UTC:20250403T120000
DTSTAMP:20260422T051647
CREATED:20250314T110214Z
LAST-MODIFIED:20250327T115710Z
UID:2616-1743674400-1743681600@www.tamesideschoolsport.co.uk
SUMMARY:KS1 Cricket Festival (Cheshire Schools)
DESCRIPTION:KS1 Cricket Festival at Copley Academy on Thursday 3rd April 2025 \nIntent: To introduce groups of KS1 girls and boys to fun cricket activities. To engage and motivate the children to regularly participate in other local cricket opportunities. \nAudience: Key Stage 1 pupils (groups of 10 children with one member of staff). Open to participants from Tameside Primary Schools in the old “Cheshire” boundary \nThere are spaces for a maximum of 15 groups for the morning and afternoon sessions.
URL:https://www.tamesideschoolsport.co.uk/event/ks1-cricket-festival-cheshire-schools/
LOCATION:Copley Academy\, Huddersfield Rd\, Stalybridge\, SK153RR\, United Kingdom
CATEGORIES:Primary School
ORGANIZER;CN="Tameside SSP":MAILTO:Emma.toone@gaa.org.uk
END:VEVENT
BEGIN:VEVENT
DTSTART;TZID=UTC:20250403T130000
DTEND;TZID=UTC:20250403T150000
DTSTAMP:20260422T051647
CREATED:20250314T111016Z
LAST-MODIFIED:20250327T115840Z
UID:2619-1743685200-1743692400@www.tamesideschoolsport.co.uk
SUMMARY:KS1 Cricket Festival (Cheshire)
DESCRIPTION:KS1 Cricket Festival at Copley Academy on Thursday 3rd April 2025 \nIntent: To introduce groups of KS1 girls and boys to fun cricket activities. To engage and motivate the children to regularly participate in other local cricket opportunities. \nAudience: Key Stage 1 pupils (groups of 10 children with one member of staff). Open to participants from Tameside Primary Schools in the old “Cheshire” boundary \nThere are spaces for a maximum of 15 groups for the morning and afternoon sessions.
URL:https://www.tamesideschoolsport.co.uk/event/ks1-cricket-festival-cheshire/
LOCATION:Copley Academy\, Huddersfield Rd\, Stalybridge\, SK153RR\, United Kingdom
CATEGORIES:Primary School
ORGANIZER;CN="Tameside SSP":MAILTO:Emma.toone@gaa.org.uk
END:VEVENT
END:VCALENDAR