BEGIN:VCALENDAR
VERSION:2.0
PRODID:-//Tameside School Sports Partnership - ECPv6.9.1//NONSGML v1.0//EN
CALSCALE:GREGORIAN
METHOD:PUBLISH
X-WR-CALNAME:Tameside School Sports Partnership
X-ORIGINAL-URL:https://www.tamesideschoolsport.co.uk
X-WR-CALDESC:Events for Tameside School Sports Partnership
REFRESH-INTERVAL;VALUE=DURATION:PT1H
X-Robots-Tag:noindex
X-PUBLISHED-TTL:PT1H
BEGIN:VTIMEZONE
TZID:UTC
BEGIN:STANDARD
TZOFFSETFROM:+0000
TZOFFSETTO:+0000
TZNAME:UTC
DTSTART:20240101T000000
END:STANDARD
END:VTIMEZONE
BEGIN:VEVENT
DTSTART;TZID=UTC:20241016T154500
DTEND;TZID=UTC:20241016T171500
DTSTAMP:20260424T123709
CREATED:20240916T150110Z
LAST-MODIFIED:20240916T150110Z
UID:1223-1729093500-1729098900@www.tamesideschoolsport.co.uk
SUMMARY:Tag Rugby Heat 2 Y5/6
DESCRIPTION:INTENT: A competitive event aimed at your most confident & competent pupils. All pupils should be aware of the rules. \nAUDIENCE: Recommended 12 in a squad (8 in a team) with 4 girls min (2 on pitch at all times). Please bring your own tag belts. Years 5 & 6.
URL:https://www.tamesideschoolsport.co.uk/event/tag-rugby-heat-2-y5-6/
LOCATION:Aldwinians RUFC
CATEGORIES:Primary School
ORGANIZER;CN="Tameside SSP":MAILTO:Emma.toone@gaa.org.uk
END:VEVENT
END:VCALENDAR