BEGIN:VCALENDAR
VERSION:2.0
PRODID:-//Tameside School Sports Partnership - ECPv6.9.1//NONSGML v1.0//EN
CALSCALE:GREGORIAN
METHOD:PUBLISH
X-ORIGINAL-URL:https://www.tamesideschoolsport.co.uk
X-WR-CALDESC:Events for Tameside School Sports Partnership
REFRESH-INTERVAL;VALUE=DURATION:PT1H
X-Robots-Tag:noindex
X-PUBLISHED-TTL:PT1H
BEGIN:VTIMEZONE
TZID:UTC
BEGIN:STANDARD
TZOFFSETFROM:+0000
TZOFFSETTO:+0000
TZNAME:UTC
DTSTART:20240101T000000
END:STANDARD
END:VTIMEZONE
BEGIN:VEVENT
DTSTART;TZID=UTC:20241115T100000
DTEND;TZID=UTC:20241115T140000
DTSTAMP:20260422T155943
CREATED:20240920T140330Z
LAST-MODIFIED:20240920T140330Z
UID:1485-1731664800-1731679200@www.tamesideschoolsport.co.uk
SUMMARY:Action Sports Festival
DESCRIPTION:INTENT: A fun festival designed to give pupils the confidence to try something they may not have done before or may not have had the confidence to. Includes scooting\, trampolining\, climbing etc \nAUDIENCE: 4- 6 children from KS2 who may not be engaged with mainstream sport or have low confidence. \n1 team per school please
URL:https://www.tamesideschoolsport.co.uk/event/action-sports-festival/
LOCATION:Graystone Action sports\, Salford\, M5 4BE
CATEGORIES:Primary School
ORGANIZER;CN="Tameside SSP":MAILTO:Emma.toone@gaa.org.uk
END:VEVENT
END:VCALENDAR