BEGIN:VCALENDAR
VERSION:2.0
PRODID:-//Tameside School Sports Partnership - ECPv6.9.1//NONSGML v1.0//EN
CALSCALE:GREGORIAN
METHOD:PUBLISH
X-ORIGINAL-URL:https://www.tamesideschoolsport.co.uk
X-WR-CALDESC:Events for Tameside School Sports Partnership
REFRESH-INTERVAL;VALUE=DURATION:PT1H
X-Robots-Tag:noindex
X-PUBLISHED-TTL:PT1H
BEGIN:VTIMEZONE
TZID:UTC
BEGIN:STANDARD
TZOFFSETFROM:+0000
TZOFFSETTO:+0000
TZNAME:UTC
DTSTART:20240101T000000
END:STANDARD
END:VTIMEZONE
BEGIN:VEVENT
DTSTART;TZID=UTC:20241010T160000
DTEND;TZID=UTC:20241010T170000
DTSTAMP:20260419T192015
CREATED:20240916T145451Z
LAST-MODIFIED:20240916T145451Z
UID:1215-1728576000-1728579600@www.tamesideschoolsport.co.uk
SUMMARY:Lionesses Y5/6 Girls Football
DESCRIPTION:INTENT: An opportunity to come and test your players/ teams out and develop their skills and teamwork without the pressure of scores/ leagues. \nAUDIENCE: Year 5/6 girls. 5 a side.
URL:https://www.tamesideschoolsport.co.uk/event/lionesses-y5-6-girls-football-2/
LOCATION:Curzon Ashton FC
CATEGORIES:Primary School
ORGANIZER;CN="Tameside SSP":MAILTO:Emma.toone@gaa.org.uk
END:VEVENT
BEGIN:VEVENT
DTSTART;TZID=UTC:20241008T154500
DTEND;TZID=UTC:20241008T171500
DTSTAMP:20260419T192015
CREATED:20240916T145346Z
LAST-MODIFIED:20240916T145346Z
UID:1211-1728402300-1728407700@www.tamesideschoolsport.co.uk
SUMMARY:Rugby Festival Y3/4
DESCRIPTION:INTENT: A developmental event for any pupil in year 3 or 4. Players will use tags to play rugby type games to create a love for the sport and promote fun. \nAUDIENCE: 6 pupils per team\, year 3 & 4. No gender split.
URL:https://www.tamesideschoolsport.co.uk/event/rugby-festival-y3-4/
LOCATION:Ashton RUFC
CATEGORIES:Primary School
ORGANIZER;CN="Tameside SSP":MAILTO:Emma.toone@gaa.org.uk
END:VEVENT
BEGIN:VEVENT
DTSTART;TZID=UTC:20241003T160000
DTEND;TZID=UTC:20241003T170000
DTSTAMP:20260419T192015
CREATED:20240910T170441Z
LAST-MODIFIED:20240917T143049Z
UID:1196-1727971200-1727974800@www.tamesideschoolsport.co.uk
SUMMARY:Lionesses Y3/4 Girls Football
DESCRIPTION:INTENT: Developmental and fun with a focus on teamwork rather than scoring \nAUDIENCE: Years 3/4 girls. 5 a side
URL:https://www.tamesideschoolsport.co.uk/event/lionesses-y3-4-girls-football/
LOCATION:Curzon Ashton FC
CATEGORIES:Primary School
ORGANIZER;CN="Tameside SSP":MAILTO:Emma.toone@gaa.org.uk
END:VEVENT
BEGIN:VEVENT
DTSTART;TZID=UTC:20240926T160000
DTEND;TZID=UTC:20240926T170000
DTSTAMP:20260419T192015
CREATED:20240910T165851Z
LAST-MODIFIED:20240916T114639Z
UID:1192-1727366400-1727370000@www.tamesideschoolsport.co.uk
SUMMARY:Lionesses Y5/6 Girls Football
DESCRIPTION:INTENT: An opportunity to come and test your players/ teams out and develop their skills and teamwork without the pressure of scores/ leagues. \nAUDIENCE: Year 5/6 girls. 5 a side.
URL:https://www.tamesideschoolsport.co.uk/event/lionesses-y5-6-girls-football/
LOCATION:Curzon Ashton FC
CATEGORIES:Primary School
ORGANIZER;CN="Tameside SSP":MAILTO:Emma.toone@gaa.org.uk
END:VEVENT
END:VCALENDAR