BEGIN:VCALENDAR
VERSION:2.0
PRODID:-//Tameside School Sports Partnership - ECPv6.9.1//NONSGML v1.0//EN
CALSCALE:GREGORIAN
METHOD:PUBLISH
X-ORIGINAL-URL:https://www.tamesideschoolsport.co.uk
X-WR-CALDESC:Events for Tameside School Sports Partnership
REFRESH-INTERVAL;VALUE=DURATION:PT1H
X-Robots-Tag:noindex
X-PUBLISHED-TTL:PT1H
BEGIN:VTIMEZONE
TZID:UTC
BEGIN:STANDARD
TZOFFSETFROM:+0000
TZOFFSETTO:+0000
TZNAME:UTC
DTSTART:20240101T000000
END:STANDARD
END:VTIMEZONE
BEGIN:VEVENT
DTSTART;TZID=UTC:20241209T160000
DTEND;TZID=UTC:20241209T170000
DTSTAMP:20260422T020940
CREATED:20240920T125638Z
LAST-MODIFIED:20241024T095849Z
UID:1461-1733760000-1733763600@www.tamesideschoolsport.co.uk
SUMMARY:Table Tennis Y7
DESCRIPTION:
URL:https://www.tamesideschoolsport.co.uk/event/table-tennis-y7/
LOCATION:Droylsden Academy
CATEGORIES:Secondary School
ORGANIZER;CN="Tameside PEA":MAILTO:emma.toone@gaa.org.uk
END:VEVENT
END:VCALENDAR