BEGIN:VCALENDAR
VERSION:2.0
PRODID:-//Tameside School Sports Partnership - ECPv6.9.1//NONSGML v1.0//EN
CALSCALE:GREGORIAN
METHOD:PUBLISH
X-WR-CALNAME:Tameside School Sports Partnership
X-ORIGINAL-URL:https://www.tamesideschoolsport.co.uk
X-WR-CALDESC:Events for Tameside School Sports Partnership
REFRESH-INTERVAL;VALUE=DURATION:PT1H
X-Robots-Tag:noindex
X-PUBLISHED-TTL:PT1H
BEGIN:VTIMEZONE
TZID:UTC
BEGIN:STANDARD
TZOFFSETFROM:+0000
TZOFFSETTO:+0000
TZNAME:UTC
DTSTART:20240101T000000
END:STANDARD
END:VTIMEZONE
BEGIN:VEVENT
DTSTART;TZID=UTC:20241004T090000
DTEND;TZID=UTC:20241004T150000
DTSTAMP:20260422T104639
CREATED:20240913T115309Z
LAST-MODIFIED:20240917T143847Z
UID:1203-1728032400-1728054000@www.tamesideschoolsport.co.uk
SUMMARY:PE Lead Teacher Network Day
DESCRIPTION:PE Lead Teacher Network Day \nAgenda: \n\nWelcome back & Updates\nDance to School\nWorkshops: New to PE lead/ Moving forward as PE lead\nGirls Football\nLeadership\nTameside Sports Awards afternoon
URL:https://www.tamesideschoolsport.co.uk/event/pe-lead-teacher-network-day/
LOCATION:The Village Hotel\, Ashton-Under-Lyne\, Ashton Moss
CATEGORIES:Teacher CPD
ORGANIZER;CN="Tameside SSP":MAILTO:Emma.toone@gaa.org.uk
END:VEVENT
BEGIN:VEVENT
DTSTART;TZID=UTC:20241003T160000
DTEND;TZID=UTC:20241003T170000
DTSTAMP:20260422T104639
CREATED:20240920T121736Z
LAST-MODIFIED:20240920T121736Z
UID:1428-1727971200-1727974800@www.tamesideschoolsport.co.uk
SUMMARY:Girls Football Y8
DESCRIPTION:INTENT: A development but competitive event
URL:https://www.tamesideschoolsport.co.uk/event/girls-football-y8/
LOCATION:Droylsden/ St Damians
CATEGORIES:Secondary School
ORGANIZER;CN="Tameside PEA":MAILTO:emma.toone@gaa.org.uk
END:VEVENT
BEGIN:VEVENT
DTSTART;TZID=UTC:20241003T160000
DTEND;TZID=UTC:20241003T170000
DTSTAMP:20260422T104639
CREATED:20240910T170441Z
LAST-MODIFIED:20240917T143049Z
UID:1196-1727971200-1727974800@www.tamesideschoolsport.co.uk
SUMMARY:Lionesses Y3/4 Girls Football
DESCRIPTION:INTENT: Developmental and fun with a focus on teamwork rather than scoring \nAUDIENCE: Years 3/4 girls. 5 a side
URL:https://www.tamesideschoolsport.co.uk/event/lionesses-y3-4-girls-football/
LOCATION:Curzon Ashton FC
CATEGORIES:Primary School
ORGANIZER;CN="Tameside SSP":MAILTO:Emma.toone@gaa.org.uk
END:VEVENT
BEGIN:VEVENT
DTSTART;TZID=UTC:20241001T160000
DTEND;TZID=UTC:20241001T170000
DTSTAMP:20260422T104639
CREATED:20240920T092306Z
LAST-MODIFIED:20240920T092909Z
UID:1398-1727798400-1727802000@www.tamesideschoolsport.co.uk
SUMMARY:Year 8 Netball
DESCRIPTION:INTENT: Developmental but competitive
URL:https://www.tamesideschoolsport.co.uk/event/year-8-netball/
LOCATION:Hyde or Fairfield or St Damians\, United Kingdom
CATEGORIES:Secondary School
ORGANIZER;CN="Tameside PEA":MAILTO:emma.toone@gaa.org.uk
END:VEVENT
BEGIN:VEVENT
DTSTART;TZID=UTC:20240926T160000
DTEND;TZID=UTC:20240926T170000
DTSTAMP:20260422T104639
CREATED:20240920T121425Z
LAST-MODIFIED:20240920T121425Z
UID:1420-1727366400-1727370000@www.tamesideschoolsport.co.uk
SUMMARY:Girls Football Y9
DESCRIPTION:INTENT: A developmental but competitive event
URL:https://www.tamesideschoolsport.co.uk/event/girls-football-y9/
CATEGORIES:Secondary School
ORGANIZER;CN="Tameside PEA":MAILTO:emma.toone@gaa.org.uk
END:VEVENT
BEGIN:VEVENT
DTSTART;TZID=UTC:20240926T160000
DTEND;TZID=UTC:20240926T170000
DTSTAMP:20260422T104639
CREATED:20240910T165851Z
LAST-MODIFIED:20240916T114639Z
UID:1192-1727366400-1727370000@www.tamesideschoolsport.co.uk
SUMMARY:Lionesses Y5/6 Girls Football
DESCRIPTION:INTENT: An opportunity to come and test your players/ teams out and develop their skills and teamwork without the pressure of scores/ leagues. \nAUDIENCE: Year 5/6 girls. 5 a side.
URL:https://www.tamesideschoolsport.co.uk/event/lionesses-y5-6-girls-football/
LOCATION:Curzon Ashton FC
CATEGORIES:Primary School
ORGANIZER;CN="Tameside SSP":MAILTO:Emma.toone@gaa.org.uk
END:VEVENT
BEGIN:VEVENT
DTSTART;TZID=UTC:20240924T160000
DTEND;TZID=UTC:20240924T170000
DTSTAMP:20260422T104639
CREATED:20240920T091905Z
LAST-MODIFIED:20240920T092829Z
UID:1392-1727193600-1727197200@www.tamesideschoolsport.co.uk
SUMMARY:Year 9 Netball
DESCRIPTION:INTENT: Competitive but developmental to prepare for the Netball cup
URL:https://www.tamesideschoolsport.co.uk/event/year-9-netball/
LOCATION:Hyde or Fairfield or St Damians\, United Kingdom
CATEGORIES:Secondary School
ORGANIZER;CN="Tameside SSP":MAILTO:Emma.toone@gaa.org.uk
END:VEVENT
BEGIN:VEVENT
DTSTART;TZID=UTC:20240917T160000
DTEND;TZID=UTC:20240917T170000
DTSTAMP:20260422T104639
CREATED:20240215T130542Z
LAST-MODIFIED:20240913T114231Z
UID:128-1726588800-1726592400@www.tamesideschoolsport.co.uk
SUMMARY:KS4 Netball
DESCRIPTION:Year groups: KS4\nVenue: Fairfield High School\, Hyde & St Damians\nTeam/RSVP size: 7 players min\nDeadline: 16/9/24\n\nINTENT: Develop your teams ready for the Cup competition
URL:https://www.tamesideschoolsport.co.uk/event/ks4-netball-tameside/
LOCATION:Hyde or Fairfield or St Damians\, United Kingdom
CATEGORIES:Secondary School
ORGANIZER;CN="Tameside PEA":MAILTO:emma.toone@gaa.org.uk
END:VEVENT
END:VCALENDAR