BEGIN:VCALENDAR
VERSION:2.0
PRODID:-//Tameside School Sports Partnership - ECPv6.9.1//NONSGML v1.0//EN
CALSCALE:GREGORIAN
METHOD:PUBLISH
X-ORIGINAL-URL:https://www.tamesideschoolsport.co.uk
X-WR-CALDESC:Events for Tameside School Sports Partnership
REFRESH-INTERVAL;VALUE=DURATION:PT1H
X-Robots-Tag:noindex
X-PUBLISHED-TTL:PT1H
BEGIN:VTIMEZONE
TZID:UTC
BEGIN:STANDARD
TZOFFSETFROM:+0000
TZOFFSETTO:+0000
TZNAME:UTC
DTSTART:20250101T000000
END:STANDARD
END:VTIMEZONE
BEGIN:VEVENT
DTSTART;TZID=UTC:20251021T154500
DTEND;TZID=UTC:20251021T171500
DTSTAMP:20260424T151443
CREATED:20251010T130906Z
LAST-MODIFIED:20251010T130906Z
UID:3857-1761061500-1761066900@www.tamesideschoolsport.co.uk
SUMMARY:Tag Rugby Finals
DESCRIPTION:
URL:https://www.tamesideschoolsport.co.uk/event/tag-rugby-finals/
LOCATION:Dukinfield RUFC
ORGANIZER;CN="Tameside SSP":MAILTO:Emma.toone@gaa.org.uk
END:VEVENT
BEGIN:VEVENT
DTSTART;TZID=UTC:20251021T160000
DTEND;TZID=UTC:20251021T170000
DTSTAMP:20260424T151443
CREATED:20250911T135432Z
LAST-MODIFIED:20250915T123217Z
UID:3545-1761062400-1761066000@www.tamesideschoolsport.co.uk
SUMMARY:Y8 Netball Friendlies
DESCRIPTION:Please enter here for the series of Netball friendlies to develop your team
URL:https://www.tamesideschoolsport.co.uk/event/y8-netball-friendlies-3/
LOCATION:TBC
ORGANIZER;CN="Tameside SSP":MAILTO:Emma.toone@gaa.org.uk
END:VEVENT
BEGIN:VEVENT
DTSTART;TZID=UTC:20251021T160000
DTEND;TZID=UTC:20251021T170000
DTSTAMP:20260424T151443
CREATED:20250911T140715Z
LAST-MODIFIED:20250911T140715Z
UID:3567-1761062400-1761066000@www.tamesideschoolsport.co.uk
SUMMARY:Y7 Netball Friendlies
DESCRIPTION:Please enter here for the series of Netball friendlies to develop your team
URL:https://www.tamesideschoolsport.co.uk/event/y7-netball-friendlies-3/
LOCATION:TBC
ORGANIZER;CN="Tameside SSP":MAILTO:Emma.toone@gaa.org.uk
END:VEVENT
BEGIN:VEVENT
DTSTART;TZID=UTC:20251022T154500
DTEND;TZID=UTC:20251022T170000
DTSTAMP:20260424T151443
CREATED:20250918T140056Z
LAST-MODIFIED:20250918T140147Z
UID:3709-1761147900-1761152400@www.tamesideschoolsport.co.uk
SUMMARY:Glow Dodgeball Y5/6
DESCRIPTION:INTENT: Fun event designed to offer a positive experience for all players. \nAUDIENCE: Y5/6 pupils with low confidence and less engaged with other team sports. Min of 2 girls. \nLights will be dimmed and UV lights on with loud music. A party atmosphere that we encourage dressing up in bright outfits\, UV bracelets and face paint!
URL:https://www.tamesideschoolsport.co.uk/event/glow-dodgeball-y5-6-2/
LOCATION:Fairfield High School
ORGANIZER;CN="Tameside SSP":MAILTO:Emma.toone@gaa.org.uk
END:VEVENT
BEGIN:VEVENT
DTSTART;TZID=UTC:20251023T154500
DTEND;TZID=UTC:20251023T170000
DTSTAMP:20260424T151443
CREATED:20250929T150846Z
LAST-MODIFIED:20250929T151032Z
UID:3771-1761234300-1761238800@www.tamesideschoolsport.co.uk
SUMMARY:Nerf  Y5/6 mixed
DESCRIPTION:INTENT: A fun festival aimed at giving pupils a positive experience. \nAUDIENCE: Pupils who are less engaged with sport. Those who may have less confidence. 8 children mixed gender ratio with min of 2 boys and 2 girls. \nThere will be nerf guns\, eye goggles for protection. The game will be a ball game where the opposition can fire the nerf gun at the ball carrier. The Ball carrier has to get the ball in the opposite net. There will be obstacles for hiding behind.
URL:https://www.tamesideschoolsport.co.uk/event/nerf-y5-6-mixed/
LOCATION:Astley Sports Village
ORGANIZER;CN="Tameside SSP":MAILTO:Emma.toone@gaa.org.uk
END:VEVENT
BEGIN:VEVENT
DTSTART;TZID=UTC:20251023T160000
DTEND;TZID=UTC:20251023T170000
DTSTAMP:20260424T151443
CREATED:20250912T114557Z
LAST-MODIFIED:20250915T123538Z
UID:3602-1761235200-1761238800@www.tamesideschoolsport.co.uk
SUMMARY:Y8 Girls football Friendlies
DESCRIPTION:Please enter here for the series of Girls football friendlies to develop your team
URL:https://www.tamesideschoolsport.co.uk/event/y8-girls-football-friendlies-3/
LOCATION:TBC
ORGANIZER;CN="Tameside SSP":MAILTO:Emma.toone@gaa.org.uk
END:VEVENT
BEGIN:VEVENT
DTSTART;TZID=UTC:20251023T160000
DTEND;TZID=UTC:20251023T170000
DTSTAMP:20260424T151443
CREATED:20250915T123709Z
LAST-MODIFIED:20250915T123709Z
UID:3652-1761235200-1761238800@www.tamesideschoolsport.co.uk
SUMMARY:Y7 Girls football Friendlies
DESCRIPTION:Please enter here for the series of Girls football friendlies to develop your team
URL:https://www.tamesideschoolsport.co.uk/event/y7-girls-football-friendlies-3/
LOCATION:TBC
ORGANIZER;CN="Tameside SSP":MAILTO:Emma.toone@gaa.org.uk
END:VEVENT
BEGIN:VEVENT
DTSTART;TZID=UTC:20251024T090000
DTEND;TZID=UTC:20251024T150000
DTSTAMP:20260424T151443
CREATED:20250911T134903Z
LAST-MODIFIED:20250915T141346Z
UID:3531-1761296400-1761318000@www.tamesideschoolsport.co.uk
SUMMARY:PE Lead Teacher Network & Sports Awards
DESCRIPTION:Agenda TBC: \n\nGovernment current focus\nCreating Active Schools\nActive Travel & Living Streets workshop\nLeadership pathway\nManchester United foundation\n\nSports Awards- awarding the School Games Marks\, Girls Football awards & borough school sport awards
URL:https://www.tamesideschoolsport.co.uk/event/pe-lead-teacher-network-sports-awards/
LOCATION:The Village Hotel\, Ashton-Under-Lyne\, Ashton Moss
ORGANIZER;CN="Tameside SSP":MAILTO:Emma.toone@gaa.org.uk
END:VEVENT
BEGIN:VEVENT
DTSTART;TZID=UTC:20251103T080000
DTEND;TZID=UTC:20251107T170000
DTSTAMP:20260424T151443
CREATED:20250911T140330Z
LAST-MODIFIED:20250911T140330Z
UID:3552-1762156800-1762534800@www.tamesideschoolsport.co.uk
SUMMARY:Y7 Netball Cup entries open
DESCRIPTION:Enter the Y7 Netball Tameside cup here
URL:https://www.tamesideschoolsport.co.uk/event/y7-netball-cup-entries-open/
ORGANIZER;CN="Tameside SSP":MAILTO:Emma.toone@gaa.org.uk
END:VEVENT
BEGIN:VEVENT
DTSTART;TZID=UTC:20251103T080000
DTEND;TZID=UTC:20251107T170000
DTSTAMP:20260424T151443
CREATED:20250911T140418Z
LAST-MODIFIED:20250911T140418Z
UID:3555-1762156800-1762534800@www.tamesideschoolsport.co.uk
SUMMARY:Y8 Netball Cup entries open
DESCRIPTION:Enter the Y8 Netball Tameside cup here
URL:https://www.tamesideschoolsport.co.uk/event/y8-netball-cup-entries-open/
ORGANIZER;CN="Tameside SSP":MAILTO:Emma.toone@gaa.org.uk
END:VEVENT
BEGIN:VEVENT
DTSTART;TZID=UTC:20251103T080000
DTEND;TZID=UTC:20251107T170000
DTSTAMP:20260424T151443
CREATED:20250911T140513Z
LAST-MODIFIED:20250911T140513Z
UID:3559-1762156800-1762534800@www.tamesideschoolsport.co.uk
SUMMARY:Y8 Girls football Cup entries open
DESCRIPTION:Enter the Y8 Girls football Tameside cup here
URL:https://www.tamesideschoolsport.co.uk/event/y8-girls-football-cup-entries-open/
ORGANIZER;CN="Tameside SSP":MAILTO:Emma.toone@gaa.org.uk
END:VEVENT
BEGIN:VEVENT
DTSTART;TZID=UTC:20251103T080000
DTEND;TZID=UTC:20251107T170000
DTSTAMP:20260424T151443
CREATED:20250911T140559Z
LAST-MODIFIED:20250911T140559Z
UID:3563-1762156800-1762534800@www.tamesideschoolsport.co.uk
SUMMARY:Y7 Girls football Cup entries open
DESCRIPTION:Enter the Y7 Girls football Tameside cup here
URL:https://www.tamesideschoolsport.co.uk/event/y7-girls-football-cup-entries-open/
ORGANIZER;CN="Tameside SSP":MAILTO:Emma.toone@gaa.org.uk
END:VEVENT
BEGIN:VEVENT
DTSTART;TZID=UTC:20251106T154500
DTEND;TZID=UTC:20251106T170000
DTSTAMP:20260424T151443
CREATED:20251103T135025Z
LAST-MODIFIED:20251103T135025Z
UID:4034-1762443900-1762448400@www.tamesideschoolsport.co.uk
SUMMARY:Tameside PEA (online)
DESCRIPTION:
URL:https://www.tamesideschoolsport.co.uk/event/tameside-pea-online/
LOCATION:TBC
ORGANIZER;CN="Tameside PEA":MAILTO:emma.toone@gaa.org.uk
END:VEVENT
BEGIN:VEVENT
DTSTART;TZID=UTC:20251106T160000
DTEND;TZID=UTC:20251106T170000
DTSTAMP:20260424T151443
CREATED:20251010T095100Z
LAST-MODIFIED:20251010T095100Z
UID:3811-1762444800-1762448400@www.tamesideschoolsport.co.uk
SUMMARY:Lionesses Football fest Y5/6
DESCRIPTION:INTENT: A fun\, development festival to ‘try’ out a competitive event- designed to give confidence and create a positive environment. Non scoring \nAUDIENCE: Y5/6 girls who enjoy football or just want to give it a try.
URL:https://www.tamesideschoolsport.co.uk/event/lionesses-football-fest-y5-6/
LOCATION:Curzon Ashton FC
ORGANIZER;CN="Tameside SSP":MAILTO:Emma.toone@gaa.org.uk
END:VEVENT
BEGIN:VEVENT
DTSTART;TZID=UTC:20251112T153000
DTEND;TZID=UTC:20251112T170000
DTSTAMP:20260424T151443
CREATED:20251103T135156Z
LAST-MODIFIED:20251103T135432Z
UID:4036-1762961400-1762966800@www.tamesideschoolsport.co.uk
SUMMARY:Basketball Y10/11 Boys
DESCRIPTION:
URL:https://www.tamesideschoolsport.co.uk/event/basketball-y10-11/
LOCATION:TBC
ORGANIZER;CN="Tameside PEA":MAILTO:emma.toone@gaa.org.uk
END:VEVENT
BEGIN:VEVENT
DTSTART;TZID=UTC:20251112T153000
DTEND;TZID=UTC:20251112T170000
DTSTAMP:20260424T151443
CREATED:20251103T135504Z
LAST-MODIFIED:20251103T135625Z
UID:4047-1762961400-1762966800@www.tamesideschoolsport.co.uk
SUMMARY:Basketball Y10/11 Girls
DESCRIPTION:
URL:https://www.tamesideschoolsport.co.uk/event/basketball-y10-11-girls/
LOCATION:TBC
ORGANIZER;CN="Tameside PEA":MAILTO:emma.toone@gaa.org.uk
END:VEVENT
BEGIN:VEVENT
DTSTART;TZID=UTC:20251112T160000
DTEND;TZID=UTC:20251112T180000
DTSTAMP:20260424T151443
CREATED:20251010T100130Z
LAST-MODIFIED:20251010T101402Z
UID:3815-1762963200-1762970400@www.tamesideschoolsport.co.uk
SUMMARY:Young Ambassadors training
DESCRIPTION:Training evening for your Young Ambassadors. \nPlease select 4-12 young people who you would like to nominate to attend the training. They will receive a t-shirt/ YA badge/ bag and certificate. \nIt is not a practical evening but is more about planning what they will do within your school. They will need pens/ pencils. \nWe suggest that parents drop off the pupil and pick them up later.
URL:https://www.tamesideschoolsport.co.uk/event/young-ambassadors-training/
LOCATION:Great Academy Ashton
ORGANIZER;CN="Tameside SSP":MAILTO:Emma.toone@gaa.org.uk
END:VEVENT
BEGIN:VEVENT
DTSTART;TZID=UTC:20251113T163000
DTEND;TZID=UTC:20251113T180000
DTSTAMP:20260424T151443
CREATED:20251003T145834Z
LAST-MODIFIED:20251010T095259Z
UID:3789-1763051400-1763056800@www.tamesideschoolsport.co.uk
SUMMARY:Game Changers training
DESCRIPTION:Please nominate 2 pupils to attend the Game Changers training- a scheme by the FA to encourage more females in leadership roles. This isnt practical evening but a training evening with planning taking place for the attendees to go back to school with a girls football plan. \nPupils can wear PE kit or School uniform. They will be given a hoody and a badge. \n2 pupils should be from either Y5/6 or Y8/9/10/11 at secondary.
URL:https://www.tamesideschoolsport.co.uk/event/game-changers-training/
LOCATION:Great Academy Ashton
ORGANIZER;CN="Tameside SSP":MAILTO:Emma.toone@gaa.org.uk
END:VEVENT
BEGIN:VEVENT
DTSTART;TZID=UTC:20251114T100000
DTEND;TZID=UTC:20251114T140000
DTSTAMP:20260424T151443
CREATED:20251010T101118Z
LAST-MODIFIED:20251010T101311Z
UID:3818-1763114400-1763128800@www.tamesideschoolsport.co.uk
SUMMARY:Determination Action festival Y5/6
DESCRIPTION:INTENT: An action sports festival designed for children with low confidence or disengaged. There is no competitive element to this festival its just about trying the activity and building their confidence. \nAUDIENCE: 4 pupils (can be boys/ girls/ mixed) from Y5/6
URL:https://www.tamesideschoolsport.co.uk/event/determination-action-festival-y5-6/
LOCATION:Graystone Action sports\, Salford\, M5 4BE
ORGANIZER;CN="Tameside SSP":MAILTO:Emma.toone@gaa.org.uk
END:VEVENT
BEGIN:VEVENT
DTSTART;TZID=UTC:20251118T154500
DTEND;TZID=UTC:20251118T170000
DTSTAMP:20260424T151443
CREATED:20251010T102531Z
LAST-MODIFIED:20251010T102531Z
UID:3821-1763480700-1763485200@www.tamesideschoolsport.co.uk
SUMMARY:Indoor Hockey Y5/6 Heat 1
DESCRIPTION:INTENT: A competitive heat of hockey aimed at your most competent and competitive pupils- A or B team standard. \nAUDIENCE: Y5/6 pupils – 2 boys & 2 girls on the pitch. 4-6 pupils in a squad (4 on the pitch)
URL:https://www.tamesideschoolsport.co.uk/event/indoor-hockey-y5-6-heat-1/
LOCATION:Ashton 6th Form\, OL69RL
ORGANIZER;CN="Tameside SSP":MAILTO:Emma.toone@gaa.org.uk
END:VEVENT
BEGIN:VEVENT
DTSTART;TZID=UTC:20251119T154500
DTEND;TZID=UTC:20251119T170000
DTSTAMP:20260424T151443
CREATED:20251010T102630Z
LAST-MODIFIED:20251010T102630Z
UID:3826-1763567100-1763571600@www.tamesideschoolsport.co.uk
SUMMARY:Indoor Hockey Y5/6 Heat 2
DESCRIPTION:INTENT: A competitive heat of hockey aimed at your most competent and competitive pupils- A or B team standard. \nAUDIENCE: Y5/6 pupils – 2 boys & 2 girls on the pitch. 4-6 pupils in a squad (4 on the pitch)
URL:https://www.tamesideschoolsport.co.uk/event/indoor-hockey-y5-6-heat-2/
LOCATION:Ashton 6th Form\, OL69RL
ORGANIZER;CN="Tameside SSP":MAILTO:Emma.toone@gaa.org.uk
END:VEVENT
BEGIN:VEVENT
DTSTART;TZID=UTC:20251119T154500
DTEND;TZID=UTC:20251119T170000
DTSTAMP:20260424T151443
CREATED:20251103T135321Z
LAST-MODIFIED:20251103T135321Z
UID:4039-1763567100-1763571600@www.tamesideschoolsport.co.uk
SUMMARY:Basketball Y8/9 Boys
DESCRIPTION:
URL:https://www.tamesideschoolsport.co.uk/event/basketball-y8-9-boys-2/
LOCATION:TBC
END:VEVENT
BEGIN:VEVENT
DTSTART;TZID=UTC:20251119T154500
DTEND;TZID=UTC:20251119T170000
DTSTAMP:20260424T151443
CREATED:20251103T135356Z
LAST-MODIFIED:20251103T135356Z
UID:4042-1763567100-1763571600@www.tamesideschoolsport.co.uk
SUMMARY:Basketball Y8/9 Girls
DESCRIPTION:
URL:https://www.tamesideschoolsport.co.uk/event/basketball-y8-9-girls-2/
LOCATION:TBC
END:VEVENT
BEGIN:VEVENT
DTSTART;TZID=UTC:20251120T154500
DTEND;TZID=UTC:20251120T170000
DTSTAMP:20260424T151443
CREATED:20251010T102724Z
LAST-MODIFIED:20251010T102724Z
UID:3830-1763653500-1763658000@www.tamesideschoolsport.co.uk
SUMMARY:Indoor Hockey Y5/6 Heat 3
DESCRIPTION:INTENT: A competitive heat of hockey aimed at your most competent and competitive pupils- A or B team standard. \nAUDIENCE: Y5/6 pupils – 2 boys & 2 girls on the pitch. 4-6 pupils in a squad (4 on the pitch)
URL:https://www.tamesideschoolsport.co.uk/event/indoor-hockey-y5-6-heat-3/
LOCATION:Astley Sports Village
ORGANIZER;CN="Tameside SSP":MAILTO:Emma.toone@gaa.org.uk
END:VEVENT
BEGIN:VEVENT
DTSTART;TZID=UTC:20251121T154500
DTEND;TZID=UTC:20251121T170000
DTSTAMP:20260424T151443
CREATED:20251010T102807Z
LAST-MODIFIED:20251010T102807Z
UID:3834-1763739900-1763744400@www.tamesideschoolsport.co.uk
SUMMARY:Indoor Hockey Y5/6 Heat 4
DESCRIPTION:INTENT: A competitive heat of hockey aimed at your most competent and competitive pupils- A or B team standard. \nAUDIENCE: Y5/6 pupils – 2 boys & 2 girls on the pitch. 4-6 pupils in a squad (4 on the pitch)
URL:https://www.tamesideschoolsport.co.uk/event/indoor-hockey-y5-6-heat-4/
LOCATION:Astley Sports Village
ORGANIZER;CN="Tameside SSP":MAILTO:Emma.toone@gaa.org.uk
END:VEVENT
BEGIN:VEVENT
DTSTART;TZID=UTC:20251124T153000
DTEND;TZID=UTC:20251124T170000
DTSTAMP:20260424T151443
CREATED:20251105T152122Z
LAST-MODIFIED:20251105T152122Z
UID:4069-1763998200-1764003600@www.tamesideschoolsport.co.uk
SUMMARY:Table Tennis Y10/11 Finals
DESCRIPTION:Please send in your best 1 or 2 teams to this event
URL:https://www.tamesideschoolsport.co.uk/event/table-tennis-y10-11-finals/
LOCATION:TBC
ORGANIZER;CN="Tameside PEA":MAILTO:emma.toone@gaa.org.uk
END:VEVENT
BEGIN:VEVENT
DTSTART;TZID=UTC:20251124T153000
DTEND;TZID=UTC:20251124T170000
DTSTAMP:20260424T151443
CREATED:20251105T152155Z
LAST-MODIFIED:20251105T152155Z
UID:4072-1763998200-1764003600@www.tamesideschoolsport.co.uk
SUMMARY:Table Tennis Y10/11 Finals Girls
DESCRIPTION:Please send in your best 1 or 2 teams to this event
URL:https://www.tamesideschoolsport.co.uk/event/table-tennis-y10-11-finals-girls/
LOCATION:TBC
ORGANIZER;CN="Tameside PEA":MAILTO:emma.toone@gaa.org.uk
END:VEVENT
BEGIN:VEVENT
DTSTART;TZID=UTC:20251125T154500
DTEND;TZID=UTC:20251125T170000
DTSTAMP:20260424T151443
CREATED:20251010T103003Z
LAST-MODIFIED:20251010T103003Z
UID:3838-1764085500-1764090000@www.tamesideschoolsport.co.uk
SUMMARY:Indoor Hockey Finals
DESCRIPTION:
URL:https://www.tamesideschoolsport.co.uk/event/indoor-hockey-finals-2/
LOCATION:TBC
ORGANIZER;CN="Tameside SSP":MAILTO:Emma.toone@gaa.org.uk
END:VEVENT
BEGIN:VEVENT
DTSTART;TZID=UTC:20251127T154500
DTEND;TZID=UTC:20251127T170000
DTSTAMP:20260424T151443
CREATED:20251010T103727Z
LAST-MODIFIED:20251010T103727Z
UID:3840-1764258300-1764262800@www.tamesideschoolsport.co.uk
SUMMARY:Glow Dodgeball Girls Y5/6
DESCRIPTION:INTENT: Fun with a party atmosphere. There will be low lights and music. \nAUDIENCE: Girls in Y5/6. 6 in a squad. Please wear UV or bright clothing!
URL:https://www.tamesideschoolsport.co.uk/event/glow-dodgeball-girls-y5-6-3/
LOCATION:Astley Sports Village
ORGANIZER;CN="Tameside SSP":MAILTO:Emma.toone@gaa.org.uk
END:VEVENT
BEGIN:VEVENT
DTSTART;TZID=UTC:20251201T153000
DTEND;TZID=UTC:20251201T170000
DTSTAMP:20260424T151443
CREATED:20251105T152338Z
LAST-MODIFIED:20251105T152338Z
UID:4077-1764603000-1764608400@www.tamesideschoolsport.co.uk
SUMMARY:Table Tennis Y8/9 Boys
DESCRIPTION:Please send your best 1 or 2 teams to this event
URL:https://www.tamesideschoolsport.co.uk/event/table-tennis-y8-9-boys/
LOCATION:TBC
ORGANIZER;CN="Tameside PEA":MAILTO:emma.toone@gaa.org.uk
END:VEVENT
END:VCALENDAR