BEGIN:VCALENDAR
VERSION:2.0
PRODID:-//Tameside School Sports Partnership - ECPv6.9.1//NONSGML v1.0//EN
CALSCALE:GREGORIAN
METHOD:PUBLISH
X-ORIGINAL-URL:https://www.tamesideschoolsport.co.uk
X-WR-CALDESC:Events for Tameside School Sports Partnership
REFRESH-INTERVAL;VALUE=DURATION:PT1H
X-Robots-Tag:noindex
X-PUBLISHED-TTL:PT1H
BEGIN:VTIMEZONE
TZID:UTC
BEGIN:STANDARD
TZOFFSETFROM:+0000
TZOFFSETTO:+0000
TZNAME:UTC
DTSTART:20260101T000000
END:STANDARD
END:VTIMEZONE
BEGIN:VEVENT
DTSTART;TZID=UTC:20260121T154500
DTEND;TZID=UTC:20260121T170000
DTSTAMP:20260424T060035
CREATED:20260105T114246Z
LAST-MODIFIED:20260105T114246Z
UID:4183-1769010300-1769014800@www.tamesideschoolsport.co.uk
SUMMARY:Dodgeball Heat 2
DESCRIPTION:INTENT: A competitive event aiming to find qualifiers for the borough finals. You should bring children who are aware of the game and are confident with rules. \nAUDIENCE: Year 5/6 pupils mixed gender with min of 2 boys and 2 girls in the team. 6 on the court.
URL:https://www.tamesideschoolsport.co.uk/event/dodgeball-heat-2/
LOCATION:Great Academy Ashton
ORGANIZER;CN="Tameside SSP":MAILTO:Emma.toone@gaa.org.uk
END:VEVENT
BEGIN:VEVENT
DTSTART;TZID=UTC:20260122T154500
DTEND;TZID=UTC:20260122T170000
DTSTAMP:20260424T060035
CREATED:20260105T114955Z
LAST-MODIFIED:20260113T123445Z
UID:4187-1769096700-1769101200@www.tamesideschoolsport.co.uk
SUMMARY:Dodgeball Heat 3
DESCRIPTION:INTENT: A competitive event aiming to find qualifiers for the borough finals. You should bring children who are aware of the game and are confident with rules. \nAUDIENCE: Year 5/6 pupils mixed gender with min of 2 boys and 2 girls in the team. 6 on the court.
URL:https://www.tamesideschoolsport.co.uk/event/dodgeball-heat-3/
LOCATION:Laurus Ryecroft
ORGANIZER;CN="Tameside SSP":MAILTO:Emma.toone@gaa.org.uk
END:VEVENT
BEGIN:VEVENT
DTSTART;TZID=UTC:20260122T160000
DTEND;TZID=UTC:20260122T170000
DTSTAMP:20260424T060035
CREATED:20260105T123028Z
LAST-MODIFIED:20260107T164845Z
UID:4236-1769097600-1769101200@www.tamesideschoolsport.co.uk
SUMMARY:Off the Blocks Y9
DESCRIPTION:
URL:https://www.tamesideschoolsport.co.uk/event/off-the-blocks-y9-heats-2/
LOCATION:TBC
ORGANIZER;CN="Tameside SSP":MAILTO:Emma.toone@gaa.org.uk
END:VEVENT
BEGIN:VEVENT
DTSTART;TZID=UTC:20260123T154500
DTEND;TZID=UTC:20260123T170000
DTSTAMP:20260424T060035
CREATED:20260105T115104Z
LAST-MODIFIED:20260105T115434Z
UID:4191-1769183100-1769187600@www.tamesideschoolsport.co.uk
SUMMARY:Dodgeball Y3/4
DESCRIPTION:INTENT: A competitive event. You should bring children who are aware of the game and are confident with rules. \nAUDIENCE: Year 3/4 pupils mixed gender with min of 2 boys and 2 girls in the team. 6 on the court.
URL:https://www.tamesideschoolsport.co.uk/event/dodgeball-heat-4/
LOCATION:Astley Sports Village
ORGANIZER;CN="Tameside SSP":MAILTO:Emma.toone@gaa.org.uk
END:VEVENT
BEGIN:VEVENT
DTSTART;TZID=UTC:20260124T093000
DTEND;TZID=UTC:20260124T113000
DTSTAMP:20260424T060035
CREATED:20251126T124640Z
LAST-MODIFIED:20251126T124640Z
UID:4158-1769247000-1769254200@www.tamesideschoolsport.co.uk
SUMMARY:Tameside Primary Cross Country Championships
DESCRIPTION:TIME: 9.30am – 11.00 (approx) \nFirst Race 10 am \nVENUE: East Cheshire Harriers and Tameside Athletic Club\, Richmond Street Athletics Stadium\, Richmond Street\, Ashton-under-Lyne\, OL7 9HG \nCOST: £15 per school (Cheques made payable to Tameside Athletics Development Group – NOT TAMESIDE SPORTS TRUST). \nIf schools don’t wish to enter but individuals from within the school do\, there will be a £3 charge. \nBACS-A/C: Name;- Tameside Athletics Development Group \nBank-Nat West A/C 11512261-Sort Code 01-00-39 \nAGE GROUPS: U 9 girls and boys (year 3/4)– over 1900 meters (approx.) \nU11 girls and boys (year 5/6) – over 1900 meters (approx.) \nThe event is used to select the Tameside Team for the Greater Manchester Primary Schools Cross Country Championships (31st January 2026 at Heaton Park). The top 10 boys and top 10 girls from the event will be chosen (year 3/4s can be selected; times will be taken on the day).
URL:https://www.tamesideschoolsport.co.uk/event/tameside-primary-cross-country-championships/
LOCATION:East Cheshire Harriers
END:VEVENT
BEGIN:VEVENT
DTSTART;TZID=UTC:20260128T160000
DTEND;TZID=UTC:20260128T170000
DTSTAMP:20260424T060035
CREATED:20260105T115953Z
LAST-MODIFIED:20260105T115953Z
UID:4201-1769616000-1769619600@www.tamesideschoolsport.co.uk
SUMMARY:Sports Hall athletics Heat 1
DESCRIPTION:INTENT: A competitive and fun event designed to engage lots of pupils with an athletics introduction. \nAUDIENCE: Pupils should be in Y5/6. You will need a min of 9 boys & 9 girls.
URL:https://www.tamesideschoolsport.co.uk/event/sports-hall-athletics-heat-1-2/
LOCATION:Denton Community Academy
ORGANIZER;CN="Tameside SSP":MAILTO:Emma.toone@gaa.org.uk
END:VEVENT
BEGIN:VEVENT
DTSTART;TZID=UTC:20260129T100000
DTEND;TZID=UTC:20260129T114500
DTSTAMP:20260424T060035
CREATED:20260105T120758Z
LAST-MODIFIED:20260105T121355Z
UID:4222-1769680800-1769687100@www.tamesideschoolsport.co.uk
SUMMARY:Panathlon Multi-sports KS2
DESCRIPTION:INTENT: A multi-sport fun event consisting of a carousel of activities where pupils score points. The winning team will qualify for the Greater Manchester event and will receive a trophy. All participants will receive a medal. \nAUDIENCE: SEND KS2 pupils – y3-6. Any gender ratio. 6-8 pupils
URL:https://www.tamesideschoolsport.co.uk/event/panathlon-multi-sports-ks1/
LOCATION:Astley Sports Village TBC
ORGANIZER;CN="Tameside SSP":MAILTO:Emma.toone@gaa.org.uk
END:VEVENT
BEGIN:VEVENT
DTSTART;TZID=UTC:20260129T160000
DTEND;TZID=UTC:20260129T170000
DTSTAMP:20260424T060035
CREATED:20260105T123625Z
LAST-MODIFIED:20260107T165027Z
UID:4248-1769702400-1769706000@www.tamesideschoolsport.co.uk
SUMMARY:Off the Blocks Y8
DESCRIPTION:
URL:https://www.tamesideschoolsport.co.uk/event/off-the-blocks-y8-heats-3/
LOCATION:TBC
ORGANIZER;CN="Tameside SSP":MAILTO:Emma.toone@gaa.org.uk
END:VEVENT
BEGIN:VEVENT
DTSTART;TZID=UTC:20260204T160000
DTEND;TZID=UTC:20260204T170000
DTSTAMP:20260424T060035
CREATED:20260105T120144Z
LAST-MODIFIED:20260105T120144Z
UID:4208-1770220800-1770224400@www.tamesideschoolsport.co.uk
SUMMARY:Sports Hall athletics Heat 3
DESCRIPTION:INTENT: A competitive and fun event designed to engage lots of pupils with an athletics introduction. \nAUDIENCE: Pupils should be in Y5/6. You will need a min of 9 boys & 9 girls.
URL:https://www.tamesideschoolsport.co.uk/event/sports-hall-athletics-heat-3-2/
LOCATION:Denton Community Academy
ORGANIZER;CN="Tameside SSP":MAILTO:Emma.toone@gaa.org.uk
END:VEVENT
BEGIN:VEVENT
DTSTART;TZID=UTC:20260205T160000
DTEND;TZID=UTC:20260205T170000
DTSTAMP:20260424T060035
CREATED:20260105T120238Z
LAST-MODIFIED:20260105T120238Z
UID:4212-1770307200-1770310800@www.tamesideschoolsport.co.uk
SUMMARY:Sports Hall athletics Heat 4
DESCRIPTION:INTENT: A competitive and fun event designed to engage lots of pupils with an athletics introduction. \nAUDIENCE: Pupils should be in Y5/6. You will need a min of 9 boys & 9 girls.
URL:https://www.tamesideschoolsport.co.uk/event/sports-hall-athletics-heat-4-2/
LOCATION:Denton Community Academy
ORGANIZER;CN="Tameside SSP":MAILTO:Emma.toone@gaa.org.uk
END:VEVENT
BEGIN:VEVENT
DTSTART;TZID=UTC:20260205T160000
DTEND;TZID=UTC:20260205T170000
DTSTAMP:20260424T060035
CREATED:20260105T123731Z
LAST-MODIFIED:20260107T165313Z
UID:4252-1770307200-1770310800@www.tamesideschoolsport.co.uk
SUMMARY:Off the Blocks Y7
DESCRIPTION:
URL:https://www.tamesideschoolsport.co.uk/event/off-the-blocks-y7-heats-2/
LOCATION:TBC
ORGANIZER;CN="Tameside SSP":MAILTO:Emma.toone@gaa.org.uk
END:VEVENT
BEGIN:VEVENT
DTSTART;TZID=UTC:20260206T154500
DTEND;TZID=UTC:20260206T170000
DTSTAMP:20260424T060035
CREATED:20260105T121905Z
LAST-MODIFIED:20260105T121905Z
UID:4228-1770392700-1770397200@www.tamesideschoolsport.co.uk
SUMMARY:Nerf Fest - girls Y4/5/6
DESCRIPTION:INTENT: A fun experience. Music playing and combat area. Children are given goggles and nerf guns and given 5 mins or so to play in a manic but fun combat game. \nAUDIENCE: Year 4/5/6 girls who may be less confident or who would enjoy this kind of event. 6 in a team
URL:https://www.tamesideschoolsport.co.uk/event/nerf-fest-girls-y4-5-6/
LOCATION:Astley Sports Village
ORGANIZER;CN="Tameside SSP":MAILTO:Emma.toone@gaa.org.uk
END:VEVENT
BEGIN:VEVENT
DTSTART;TZID=UTC:20260210T154500
DTEND;TZID=UTC:20260210T170000
DTSTAMP:20260424T060035
CREATED:20260105T122008Z
LAST-MODIFIED:20260203T162759Z
UID:4234-1770738300-1770742800@www.tamesideschoolsport.co.uk
SUMMARY:Dodgeball Finals
DESCRIPTION:
URL:https://www.tamesideschoolsport.co.uk/event/dodgeball-finals/
LOCATION:Laurus Ryecroft
ORGANIZER;CN="Tameside SSP":MAILTO:Emma.toone@gaa.org.uk
END:VEVENT
BEGIN:VEVENT
DTSTART;TZID=UTC:20260211T160000
DTEND;TZID=UTC:20260211T170000
DTSTAMP:20260424T060035
CREATED:20260105T120356Z
LAST-MODIFIED:20260105T120356Z
UID:4216-1770825600-1770829200@www.tamesideschoolsport.co.uk
SUMMARY:Sports Hall athletics Heat 5
DESCRIPTION:INTENT: A competitive and fun event designed to engage lots of pupils with an athletics introduction. \nAUDIENCE: Pupils should be in Y5/6. You will need a min of 9 boys & 9 girls.
URL:https://www.tamesideschoolsport.co.uk/event/sports-hall-athletics-heat-5-2/
LOCATION:Denton Community Academy
ORGANIZER;CN="Tameside SSP":MAILTO:Emma.toone@gaa.org.uk
END:VEVENT
BEGIN:VEVENT
DTSTART;TZID=UTC:20260212T160000
DTEND;TZID=UTC:20260212T170000
DTSTAMP:20260424T060035
CREATED:20260105T120041Z
LAST-MODIFIED:20260107T175153Z
UID:4204-1770912000-1770915600@www.tamesideschoolsport.co.uk
SUMMARY:Sports Hall athletics Heat 2
DESCRIPTION:INTENT: A competitive and fun event designed to engage lots of pupils with an athletics introduction. \nAUDIENCE: Pupils should be in Y5/6. You will need a min of 9 boys & 9 girls.
URL:https://www.tamesideschoolsport.co.uk/event/sports-hall-athletics-heat-2-2/
LOCATION:Denton Community Academy
ORGANIZER;CN="Tameside SSP":MAILTO:Emma.toone@gaa.org.uk
END:VEVENT
BEGIN:VEVENT
DTSTART;TZID=UTC:20260213T153000
DTEND;TZID=UTC:20260213T170000
DTSTAMP:20260424T060035
CREATED:20260130T145209Z
LAST-MODIFIED:20260130T145209Z
UID:4404-1770996600-1771002000@www.tamesideschoolsport.co.uk
SUMMARY:Glow Futsal - KS2 girls
DESCRIPTION:INTENT: A fun\, development event but with competitive edge. 5 a side and can be Y3-6. \n 
URL:https://www.tamesideschoolsport.co.uk/event/glow-futsal-ks2-girls/
LOCATION:Astley Sports Village
ORGANIZER;CN="Tameside SSP":MAILTO:Emma.toone@gaa.org.uk
END:VEVENT
BEGIN:VEVENT
DTSTART;TZID=UTC:20260226T160000
DTEND;TZID=UTC:20260226T170000
DTSTAMP:20260424T060035
CREATED:20260105T120445Z
LAST-MODIFIED:20260107T175256Z
UID:4220-1772121600-1772125200@www.tamesideschoolsport.co.uk
SUMMARY:Sports Hall Finals Y5/6
DESCRIPTION:
URL:https://www.tamesideschoolsport.co.uk/event/sports-hall-finals-y5-6/
LOCATION:Denton Community Academy
ORGANIZER;CN="Tameside SSP":MAILTO:Emma.toone@gaa.org.uk
END:VEVENT
BEGIN:VEVENT
DTSTART;TZID=UTC:20260227T154500
DTEND;TZID=UTC:20260227T170000
DTSTAMP:20260424T060035
CREATED:20260209T140658Z
LAST-MODIFIED:20260209T140658Z
UID:4442-1772207100-1772211600@www.tamesideschoolsport.co.uk
SUMMARY:Mixed Futsal Y5/6
DESCRIPTION:INTENT: Competitive event. You should bring your best players \nAUDIENCE: 6 players- can be mixed or single gender. One team per school please
URL:https://www.tamesideschoolsport.co.uk/event/mixed-futsal-y5-6/
LOCATION:Astley Sports Village
ORGANIZER;CN="Tameside SSP":MAILTO:Emma.toone@gaa.org.uk
END:VEVENT
BEGIN:VEVENT
DTSTART;TZID=UTC:20260302T160000
DTEND;TZID=UTC:20260302T170000
DTSTAMP:20260424T060035
CREATED:20260223T153409Z
LAST-MODIFIED:20260223T153726Z
UID:4553-1772467200-1772470800@www.tamesideschoolsport.co.uk
SUMMARY:Badminton Y10/11 Girls
DESCRIPTION:
URL:https://www.tamesideschoolsport.co.uk/event/badminton-y10-11-girls/
LOCATION:TBC
ORGANIZER;CN="Tameside PEA":MAILTO:emma.toone@gaa.org.uk
END:VEVENT
BEGIN:VEVENT
DTSTART;TZID=UTC:20260302T160000
DTEND;TZID=UTC:20260302T170000
DTSTAMP:20260424T060035
CREATED:20260223T154850Z
LAST-MODIFIED:20260223T154850Z
UID:4570-1772467200-1772470800@www.tamesideschoolsport.co.uk
SUMMARY:Badminton Y10/11 Boys
DESCRIPTION:
URL:https://www.tamesideschoolsport.co.uk/event/badminton-y10-11-boys/
LOCATION:TBC
ORGANIZER;CN="Tameside PEA":MAILTO:emma.toone@gaa.org.uk
END:VEVENT
BEGIN:VEVENT
DTSTART;TZID=UTC:20260304T160000
DTEND;TZID=UTC:20260304T170000
DTSTAMP:20260424T060035
CREATED:20260223T161318Z
LAST-MODIFIED:20260223T161453Z
UID:4574-1772640000-1772643600@www.tamesideschoolsport.co.uk
SUMMARY:Volleyball Y10/11
DESCRIPTION:
URL:https://www.tamesideschoolsport.co.uk/event/volleyball-y8-9/
LOCATION:Fairfield High School
ORGANIZER;CN="Tameside PEA":MAILTO:emma.toone@gaa.org.uk
END:VEVENT
BEGIN:VEVENT
DTSTART;TZID=UTC:20260305T154500
DTEND;TZID=UTC:20260305T170000
DTSTAMP:20260424T060035
CREATED:20260209T140909Z
LAST-MODIFIED:20260209T140909Z
UID:4445-1772725500-1772730000@www.tamesideschoolsport.co.uk
SUMMARY:Glow Dodgeball Y5/6
DESCRIPTION:INTENT: Competitive and fun \nAUDIENCE: 6 per team- 3 boys and 3 girls. Please target children who may not have competed in this before.
URL:https://www.tamesideschoolsport.co.uk/event/glow-dodgeball-y5-6-3/
LOCATION:Astley Sports Village
ORGANIZER;CN="Tameside SSP":MAILTO:Emma.toone@gaa.org.uk
END:VEVENT
BEGIN:VEVENT
DTSTART;VALUE=DATE:20260306
DTEND;VALUE=DATE:20260307
DTSTAMP:20260424T060035
CREATED:20260209T141316Z
LAST-MODIFIED:20260209T141316Z
UID:4448-1772755200-1772841599@www.tamesideschoolsport.co.uk
SUMMARY:'Made for this Game' day
DESCRIPTION:A day to raise the profile of girls football across Tameside and Greater Manchester. \nWe are asking your school to plan something for this day: \n\nWear football kit for the day\nKick up competition\nGame Changers\nFun dinnertime competition\nWrite a football poem\nDo a footballing assembly!
URL:https://www.tamesideschoolsport.co.uk/event/made-for-this-game-day/
LOCATION:Your venue
ORGANIZER;CN="Tameside SSP":MAILTO:Emma.toone@gaa.org.uk
END:VEVENT
BEGIN:VEVENT
DTSTART;TZID=UTC:20260311T100000
DTEND;TZID=UTC:20260311T120000
DTSTAMP:20260424T060035
CREATED:20260205T160134Z
LAST-MODIFIED:20260205T160134Z
UID:4415-1773223200-1773230400@www.tamesideschoolsport.co.uk
SUMMARY:KS1 Cricket Festival
DESCRIPTION:INTENT: Developmental and fun. Introduction to cricket skills \nAUDIENCE: Y1/2 boys & girls. 10 per team. You can bring more than one team.
URL:https://www.tamesideschoolsport.co.uk/event/ks1-cricket-festival/
LOCATION:Copley Academy\, Huddersfield Rd\, Stalybridge\, SK153RR\, United Kingdom
ORGANIZER;CN="Tameside SSP":MAILTO:Emma.toone@gaa.org.uk
END:VEVENT
BEGIN:VEVENT
DTSTART;TZID=UTC:20260311T130000
DTEND;TZID=UTC:20260311T150000
DTSTAMP:20260424T060035
CREATED:20260205T160255Z
LAST-MODIFIED:20260205T160255Z
UID:4418-1773234000-1773241200@www.tamesideschoolsport.co.uk
SUMMARY:KS1 Cricket Festival
DESCRIPTION:INTENT: Developmental and fun. Introduction to cricket skills \nAUDIENCE: Y1/2 boys & girls. 10 per team. You can bring more than one team.
URL:https://www.tamesideschoolsport.co.uk/event/ks1-cricket-festival-2/
LOCATION:Copley Academy\, Huddersfield Rd\, Stalybridge\, SK153RR\, United Kingdom
ORGANIZER;CN="Tameside SSP":MAILTO:Emma.toone@gaa.org.uk
END:VEVENT
BEGIN:VEVENT
DTSTART;TZID=UTC:20260311T154500
DTEND;TZID=UTC:20260311T171500
DTSTAMP:20260424T060035
CREATED:20260209T141738Z
LAST-MODIFIED:20260209T141738Z
UID:4452-1773243900-1773249300@www.tamesideschoolsport.co.uk
SUMMARY:Lacrosse Y5/6
DESCRIPTION:INTENT: Competitive event with a pathway to a County event- you should bring competent and confident children. \nAUDIENCE: 8 in a squad – 5 on a pitch with a minimum of 2 girls on the field of play. 4 boys and 4 girls in the squad.
URL:https://www.tamesideschoolsport.co.uk/event/lacrosse-y5-6/
LOCATION:Great Academy Ashton – OL6 8RF
ORGANIZER;CN="Tameside SSP":MAILTO:Emma.toone@gaa.org.uk
END:VEVENT
BEGIN:VEVENT
DTSTART;TZID=UTC:20260311T160000
DTEND;TZID=UTC:20260311T170000
DTSTAMP:20260424T060035
CREATED:20260223T154323Z
LAST-MODIFIED:20260223T162315Z
UID:4562-1773244800-1773248400@www.tamesideschoolsport.co.uk
SUMMARY:Volleyball Y8/9 Girls
DESCRIPTION:
URL:https://www.tamesideschoolsport.co.uk/event/volleyball-y8-9-girls/
LOCATION:Fairfield High School
ORGANIZER;CN="Tameside PEA":MAILTO:emma.toone@gaa.org.uk
END:VEVENT
BEGIN:VEVENT
DTSTART;TZID=UTC:20260311T160000
DTEND;TZID=UTC:20260311T170000
DTSTAMP:20260424T060035
CREATED:20260223T154400Z
LAST-MODIFIED:20260223T162348Z
UID:4566-1773244800-1773248400@www.tamesideschoolsport.co.uk
SUMMARY:Volleyball Y8/9 Boys
DESCRIPTION:
URL:https://www.tamesideschoolsport.co.uk/event/volleyball-y8-9-boys/
LOCATION:TBC
ORGANIZER;CN="Tameside PEA":MAILTO:emma.toone@gaa.org.uk
END:VEVENT
BEGIN:VEVENT
DTSTART;TZID=UTC:20260312T154500
DTEND;TZID=UTC:20260312T170000
DTSTAMP:20260424T060035
CREATED:20260209T142023Z
LAST-MODIFIED:20260310T162017Z
UID:4455-1773330300-1773334800@www.tamesideschoolsport.co.uk
SUMMARY:Glow Dodgeball - Girls KS2
DESCRIPTION:INTENT: Fun with a party atmosphere. \nAUDIENCE: 6 pupils who may not have participated in this event before. Please wear bright clothing and we encourage face paint\, glow bands and dress up clothes!
URL:https://www.tamesideschoolsport.co.uk/event/glow-dodgeball-girls-ks2/
LOCATION:Fairfield High School
ORGANIZER;CN="Tameside SSP":MAILTO:Emma.toone@gaa.org.uk
END:VEVENT
BEGIN:VEVENT
DTSTART;TZID=UTC:20260313T100000
DTEND;TZID=UTC:20260313T140000
DTSTAMP:20260424T060035
CREATED:20260209T142603Z
LAST-MODIFIED:20260209T142603Z
UID:4458-1773396000-1773410400@www.tamesideschoolsport.co.uk
SUMMARY:Determination Action Fest Y3/4
DESCRIPTION:INTENT: A fun and adrenaline filled festival aimed at developing confidence in activities that some children may not have taken part in before. \nAUDIENCE: 4-6 pupils (depending on your transport choice). Children who may have low confidence\, friendship issues or not currently engaged with sport.
URL:https://www.tamesideschoolsport.co.uk/event/determination-action-fest-y3-4/
LOCATION:Graystone Action sports\, Salford\, M5 4BE
ORGANIZER;CN="Tameside SSP":MAILTO:Emma.toone@gaa.org.uk
END:VEVENT
END:VCALENDAR