BEGIN:VCALENDAR
VERSION:2.0
PRODID:-//Tameside School Sports Partnership - ECPv6.9.1//NONSGML v1.0//EN
CALSCALE:GREGORIAN
METHOD:PUBLISH
X-WR-CALNAME:Tameside School Sports Partnership
X-ORIGINAL-URL:https://www.tamesideschoolsport.co.uk
X-WR-CALDESC:Events for Tameside School Sports Partnership
REFRESH-INTERVAL;VALUE=DURATION:PT1H
X-Robots-Tag:noindex
X-PUBLISHED-TTL:PT1H
BEGIN:VTIMEZONE
TZID:UTC
BEGIN:STANDARD
TZOFFSETFROM:+0000
TZOFFSETTO:+0000
TZNAME:UTC
DTSTART:20260101T000000
END:STANDARD
END:VTIMEZONE
BEGIN:VEVENT
DTSTART;TZID=UTC:20260602T154500
DTEND;TZID=UTC:20260602T170000
DTSTAMP:20260425T014006
CREATED:20260415T182450Z
LAST-MODIFIED:20260415T182450Z
UID:4940-1780415100-1780419600@www.tamesideschoolsport.co.uk
SUMMARY:Tameside PEA meeting
DESCRIPTION:
URL:https://www.tamesideschoolsport.co.uk/event/tameside-pea-meeting-2/
LOCATION:Online TBC
ORGANIZER;CN="Tameside PEA":MAILTO:emma.toone@gaa.org.uk
END:VEVENT
BEGIN:VEVENT
DTSTART;TZID=UTC:20260608T153000
DTEND;TZID=UTC:20260608T170000
DTSTAMP:20260425T014006
CREATED:20260415T175944Z
LAST-MODIFIED:20260415T175944Z
UID:4892-1780932600-1780938000@www.tamesideschoolsport.co.uk
SUMMARY:Quadkids Y8
DESCRIPTION:
URL:https://www.tamesideschoolsport.co.uk/event/quadkids-y8-2/
LOCATION:East Cheshire Harriers
ORGANIZER;CN="Tameside PEA":MAILTO:emma.toone@gaa.org.uk
END:VEVENT
BEGIN:VEVENT
DTSTART;TZID=UTC:20260610T153000
DTEND;TZID=UTC:20260610T170000
DTSTAMP:20260425T014006
CREATED:20260415T181222Z
LAST-MODIFIED:20260415T181222Z
UID:4918-1781105400-1781110800@www.tamesideschoolsport.co.uk
SUMMARY:Pickleball Y10
DESCRIPTION:A developmental competition to promote pickleball. \nPlease state whether you will be bringing girls/ boys or mixed. \nTeams of 4
URL:https://www.tamesideschoolsport.co.uk/event/pickleball-y10/
LOCATION:Alder CHS
ORGANIZER;CN="Tameside PEA":MAILTO:emma.toone@gaa.org.uk
END:VEVENT
BEGIN:VEVENT
DTSTART;TZID=UTC:20260611T153000
DTEND;TZID=UTC:20260611T170000
DTSTAMP:20260425T014006
CREATED:20260415T180412Z
LAST-MODIFIED:20260415T180412Z
UID:4899-1781191800-1781197200@www.tamesideschoolsport.co.uk
SUMMARY:Rounders Y10
DESCRIPTION:
URL:https://www.tamesideschoolsport.co.uk/event/rounders-y10-2/
LOCATION:TBC
ORGANIZER;CN="Tameside PEA":MAILTO:emma.toone@gaa.org.uk
END:VEVENT
BEGIN:VEVENT
DTSTART;TZID=UTC:20260615T153000
DTEND;TZID=UTC:20260615T170000
DTSTAMP:20260425T014006
CREATED:20260415T180032Z
LAST-MODIFIED:20260415T180032Z
UID:4895-1781537400-1781542800@www.tamesideschoolsport.co.uk
SUMMARY:Quadkids Y7
DESCRIPTION:Please state boys or Girls or Both
URL:https://www.tamesideschoolsport.co.uk/event/quadkids-y7-2/
LOCATION:East Cheshire Harriers
ORGANIZER;CN="Tameside PEA":MAILTO:emma.toone@gaa.org.uk
END:VEVENT
BEGIN:VEVENT
DTSTART;TZID=UTC:20260617T153000
DTEND;TZID=UTC:20260617T170000
DTSTAMP:20260425T014006
CREATED:20260415T181342Z
LAST-MODIFIED:20260415T181342Z
UID:4920-1781710200-1781715600@www.tamesideschoolsport.co.uk
SUMMARY:Pickleball Y9
DESCRIPTION:A developmental competition to promote pickleball. \nPlease state whether you will be bringing girls/ boys or mixed. \nTeams of 4
URL:https://www.tamesideschoolsport.co.uk/event/pickleball-y9-2/
LOCATION:Alder CHS
ORGANIZER;CN="Tameside PEA":MAILTO:emma.toone@gaa.org.uk
END:VEVENT
BEGIN:VEVENT
DTSTART;TZID=UTC:20260618T153000
DTEND;TZID=UTC:20260618T170000
DTSTAMP:20260425T014006
CREATED:20260415T180452Z
LAST-MODIFIED:20260415T180452Z
UID:4905-1781796600-1781802000@www.tamesideschoolsport.co.uk
SUMMARY:Rounders Y9
DESCRIPTION:
URL:https://www.tamesideschoolsport.co.uk/event/rounders-y9-2/
LOCATION:TBC
ORGANIZER;CN="Tameside PEA":MAILTO:emma.toone@gaa.org.uk
END:VEVENT
BEGIN:VEVENT
DTSTART;TZID=UTC:20260622T153000
DTEND;TZID=UTC:20260622T170000
DTSTAMP:20260425T014006
CREATED:20260415T182018Z
LAST-MODIFIED:20260415T182018Z
UID:4932-1782142200-1782147600@www.tamesideschoolsport.co.uk
SUMMARY:Secondary Relays
DESCRIPTION:See attached rules \nPlease indicate if you will be bringing boys/ girls or both
URL:https://www.tamesideschoolsport.co.uk/event/secondary-relays/
LOCATION:East Cheshire Harriers
ORGANIZER;CN="Tameside PEA":MAILTO:emma.toone@gaa.org.uk
END:VEVENT
BEGIN:VEVENT
DTSTART;TZID=UTC:20260624T153000
DTEND;TZID=UTC:20260624T170000
DTSTAMP:20260425T014006
CREATED:20260415T181424Z
LAST-MODIFIED:20260415T181424Z
UID:4923-1782315000-1782320400@www.tamesideschoolsport.co.uk
SUMMARY:Pickleball Y8
DESCRIPTION:A developmental competition to promote pickleball. \nPlease state whether you will be bringing girls/ boys or mixed. \nTeams of 4
URL:https://www.tamesideschoolsport.co.uk/event/pickleball-y8-2/
LOCATION:Alder CHS
ORGANIZER;CN="Tameside PEA":MAILTO:emma.toone@gaa.org.uk
END:VEVENT
BEGIN:VEVENT
DTSTART;TZID=UTC:20260625T153000
DTEND;TZID=UTC:20260625T170000
DTSTAMP:20260425T014006
CREATED:20260415T180631Z
LAST-MODIFIED:20260415T180631Z
UID:4910-1782401400-1782406800@www.tamesideschoolsport.co.uk
SUMMARY:Rounders Y8
DESCRIPTION:
URL:https://www.tamesideschoolsport.co.uk/event/rounders-y8-2/
LOCATION:TBC
ORGANIZER;CN="Tameside PEA":MAILTO:emma.toone@gaa.org.uk
END:VEVENT
BEGIN:VEVENT
DTSTART;TZID=UTC:20260701T153000
DTEND;TZID=UTC:20260701T170000
DTSTAMP:20260425T014006
CREATED:20260415T181509Z
LAST-MODIFIED:20260415T181509Z
UID:4927-1782919800-1782925200@www.tamesideschoolsport.co.uk
SUMMARY:Pickleball Y7
DESCRIPTION:A developmental competition to promote pickleball. \nPlease state whether you will be bringing girls/ boys or mixed. \nTeams of 4
URL:https://www.tamesideschoolsport.co.uk/event/pickleball-y7/
LOCATION:Alder CHS
ORGANIZER;CN="Tameside PEA":MAILTO:emma.toone@gaa.org.uk
END:VEVENT
BEGIN:VEVENT
DTSTART;TZID=UTC:20260702T153000
DTEND;TZID=UTC:20260702T170000
DTSTAMP:20260425T014006
CREATED:20260415T180728Z
LAST-MODIFIED:20260415T180728Z
UID:4914-1783006200-1783011600@www.tamesideschoolsport.co.uk
SUMMARY:Rounders Y7
DESCRIPTION:
URL:https://www.tamesideschoolsport.co.uk/event/rounders-y7-2/
LOCATION:TBC
ORGANIZER;CN="Tameside PEA":MAILTO:emma.toone@gaa.org.uk
END:VEVENT
BEGIN:VEVENT
DTSTART;VALUE=DATE:20260707
DTEND;VALUE=DATE:20260708
DTSTAMP:20260425T014006
CREATED:20260415T182331Z
LAST-MODIFIED:20260415T182331Z
UID:4937-1783382400-1783468799@www.tamesideschoolsport.co.uk
SUMMARY:Tameside Secondary Athletics
DESCRIPTION:
URL:https://www.tamesideschoolsport.co.uk/event/tameside-secondary-athletics-2/
LOCATION:Sport City
ORGANIZER;CN="Tameside PEA":MAILTO:emma.toone@gaa.org.uk
END:VEVENT
END:VCALENDAR