BEGIN:VCALENDAR
VERSION:2.0
PRODID:-//Tameside School Sports Partnership - ECPv6.9.1//NONSGML v1.0//EN
CALSCALE:GREGORIAN
METHOD:PUBLISH
X-ORIGINAL-URL:https://www.tamesideschoolsport.co.uk
X-WR-CALDESC:Events for Tameside School Sports Partnership
REFRESH-INTERVAL;VALUE=DURATION:PT1H
X-Robots-Tag:noindex
X-PUBLISHED-TTL:PT1H
BEGIN:VTIMEZONE
TZID:UTC
BEGIN:STANDARD
TZOFFSETFROM:+0000
TZOFFSETTO:+0000
TZNAME:UTC
DTSTART:20250101T000000
END:STANDARD
END:VTIMEZONE
BEGIN:VEVENT
DTSTART;TZID=UTC:20250401T154500
DTEND;TZID=UTC:20250401T171500
DTSTAMP:20260424T013941
CREATED:20250107T181101Z
LAST-MODIFIED:20250107T181101Z
UID:2305-1743522300-1743527700@www.tamesideschoolsport.co.uk
SUMMARY:Basketball Y5/6 Finals
DESCRIPTION:
URL:https://www.tamesideschoolsport.co.uk/event/basketball-y5-6-finals/
LOCATION:Alder CHS
ORGANIZER;CN="Tameside PEA":MAILTO:emma.toone@gaa.org.uk
END:VEVENT
BEGIN:VEVENT
DTSTART;TZID=UTC:20250403T100000
DTEND;TZID=UTC:20250403T120000
DTSTAMP:20260424T013941
CREATED:20250314T110214Z
LAST-MODIFIED:20250327T115710Z
UID:2616-1743674400-1743681600@www.tamesideschoolsport.co.uk
SUMMARY:KS1 Cricket Festival (Cheshire Schools)
DESCRIPTION:KS1 Cricket Festival at Copley Academy on Thursday 3rd April 2025 \nIntent: To introduce groups of KS1 girls and boys to fun cricket activities. To engage and motivate the children to regularly participate in other local cricket opportunities. \nAudience: Key Stage 1 pupils (groups of 10 children with one member of staff). Open to participants from Tameside Primary Schools in the old “Cheshire” boundary \nThere are spaces for a maximum of 15 groups for the morning and afternoon sessions.
URL:https://www.tamesideschoolsport.co.uk/event/ks1-cricket-festival-cheshire-schools/
LOCATION:Copley Academy\, Huddersfield Rd\, Stalybridge\, SK153RR\, United Kingdom
CATEGORIES:Primary School
ORGANIZER;CN="Tameside SSP":MAILTO:Emma.toone@gaa.org.uk
END:VEVENT
BEGIN:VEVENT
DTSTART;TZID=UTC:20250403T130000
DTEND;TZID=UTC:20250403T150000
DTSTAMP:20260424T013941
CREATED:20250314T111016Z
LAST-MODIFIED:20250327T115840Z
UID:2619-1743685200-1743692400@www.tamesideschoolsport.co.uk
SUMMARY:KS1 Cricket Festival (Cheshire)
DESCRIPTION:KS1 Cricket Festival at Copley Academy on Thursday 3rd April 2025 \nIntent: To introduce groups of KS1 girls and boys to fun cricket activities. To engage and motivate the children to regularly participate in other local cricket opportunities. \nAudience: Key Stage 1 pupils (groups of 10 children with one member of staff). Open to participants from Tameside Primary Schools in the old “Cheshire” boundary \nThere are spaces for a maximum of 15 groups for the morning and afternoon sessions.
URL:https://www.tamesideschoolsport.co.uk/event/ks1-cricket-festival-cheshire/
LOCATION:Copley Academy\, Huddersfield Rd\, Stalybridge\, SK153RR\, United Kingdom
CATEGORIES:Primary School
ORGANIZER;CN="Tameside SSP":MAILTO:Emma.toone@gaa.org.uk
END:VEVENT
BEGIN:VEVENT
DTSTART;TZID=UTC:20250422T154500
DTEND;TZID=UTC:20250422T164500
DTSTAMP:20260424T013941
CREATED:20250226T122452Z
LAST-MODIFIED:20250226T122452Z
UID:2562-1745336700-1745340300@www.tamesideschoolsport.co.uk
SUMMARY:Secondary PEA meeting
DESCRIPTION:This meeting will be online.
URL:https://www.tamesideschoolsport.co.uk/event/secondary-pea-meeting/
LOCATION:Online via Teams
ORGANIZER;CN="Tameside PEA":MAILTO:emma.toone@gaa.org.uk
END:VEVENT
BEGIN:VEVENT
DTSTART;TZID=UTC:20250428T121500
DTEND;TZID=UTC:20250428T160000
DTSTAMP:20260424T013941
CREATED:20250402T132645Z
LAST-MODIFIED:20250402T152140Z
UID:2697-1745842500-1745856000@www.tamesideschoolsport.co.uk
SUMMARY:Ashton CC Dynamos Cricket Festival Y5/6
DESCRIPTION:INTENT: A fun\, developmental festival to promote cricket \nAUDIENCE: Y5/6 pupils. Maximum of 12 students with split of 6 boys/ 6 girls. \nAn outline of the day will be as follows: \nArrive:12:15 \nIntroductions: 12:30 \nSkills festival start: 12:35 \nBreak- 13:40 \nTournament: 14:00 pm-15:45 \nEnd of day:16:00
URL:https://www.tamesideschoolsport.co.uk/event/ashton-cc-dynamos-cricket-festival-y5-6/
LOCATION:Ashton cricket club
ORGANIZER;CN="Tameside SSP":MAILTO:Emma.toone@gaa.org.uk
END:VEVENT
BEGIN:VEVENT
DTSTART;TZID=UTC:20250429T154500
DTEND;TZID=UTC:20250429T171500
DTSTAMP:20260424T013941
CREATED:20250404T124719Z
LAST-MODIFIED:20250404T124719Z
UID:2970-1745941500-1745946900@www.tamesideschoolsport.co.uk
SUMMARY:High Five Netball Heat 1
DESCRIPTION:INTENT: Competitive for pupils who understand the rules and are competent at the skills \nAUDIENCE: Y5/6 pupils – 5 on the court (max of 2 boys) and 7-9 in a squad (max 3 boys)
URL:https://www.tamesideschoolsport.co.uk/event/high-five-netball-heat-1/
LOCATION:Great Academy Ashton
ORGANIZER;CN="Tameside SSP":MAILTO:Emma.toone@gaa.org.uk
END:VEVENT
BEGIN:VEVENT
DTSTART;TZID=UTC:20250430T154500
DTEND;TZID=UTC:20250430T171500
DTSTAMP:20260424T013941
CREATED:20250402T131512Z
LAST-MODIFIED:20250404T141606Z
UID:2685-1746027900-1746033300@www.tamesideschoolsport.co.uk
SUMMARY:High 5 Netball Heat 2
DESCRIPTION:INTENT: Competitive event aimed at competent and competitive pupils \nAUDIENCE: Year 5 & 6 pupils. 7- 9 in a squad with a max of 3 boys (2 on the court at any one time)
URL:https://www.tamesideschoolsport.co.uk/event/high-5-netball-heat-1/
LOCATION:Denton Community Academy
ORGANIZER;CN="Tameside SSP":MAILTO:Emma.toone@gaa.org.uk
END:VEVENT
END:VCALENDAR